BEGIN:VCALENDAR
VERSION:2.0
PRODID:-//ChamberMaster//Event Calendar 2.0//EN
METHOD:PUBLISH
X-PUBLISHED-TTL:P3D
REFRESH-INTERVAL:P3D
CALSCALE:GREGORIAN
BEGIN:VEVENT
DTSTART:20100312T230000Z
DTEND:20100312T230000Z
X-MICROSOFT-CDO-ALLDAYEVENT:FALSE
SUMMARY:SEMINAR: WHAT HAPPENED TO STUCCO
DESCRIPTION:WHAT HAPPENED TO STUCCO?\n ~ Friday\, March 12\, 2010 ~ Workshop Overview - what happened to stucco\n           Building paper composition\, changes from previous years   \n         OSB  today's standard sheathing vs. Plywood sheathing \n         Higher thermal resistance (Insulation) compound moisture in the home  \n         Improper installation of WRB\n         Flashing around windows and doors and kick outs at roof \n         Stucco application sub standard \n         Sheathing installation Actual wall demonstration of water infiltration through plexiglass sheathing                                                                                                             \n Installation Procedures on a wall mock up Understanding the correct material for today's stucco application\n A step by step understanding of flashing in conjunction with windows\, doors\, and drainage plains under stucco \n Understanding how to fix stucco with water infiltration\n \n Presented by: Jerry Guzzo: Guzzo Stucco contractors are renowned for creating beautiful structures and designs\, and are recognized as leaders in the stucco industry serving Builders and home owners needs in the tri state area since 1954.  (2010 BLSJ GRAND SPONSOR)
X-ALT-DESC;FMTTYPE=text/html:<p>&nbsp\;</p> <p>WHAT HAPPENED TO STUCCO?<br /> ~ Friday\, March 12\, 2010 ~</p> <p>Workshop Overview - what happened to stucco<br /> &bull\;         Building paper composition\, changes from previous years   <br /> &bull\;       OSB  today&rsquo\;s standard sheathing vs. Plywood sheathing <br /> &bull\;       Higher thermal resistance (Insulation) compound moisture in the home  <br /> &bull\;       Improper installation of WRB<br /> &bull\;       Flashing around windows and doors and kick outs at roof <br /> &bull\;       Stucco application sub standard <br /> &bull\;       Sheathing installation</p> <p>Actual wall demonstration of water infiltration through plexiglass sheathing                                                                                                             <br /> Installation Procedures on a wall mock up</p> <p>Understanding the correct material for today&rsquo\;s stucco application<br /> A step by step understanding of flashing in conjunction with windows\, doors\, and drainage plains under stucco <br /> Understanding how to fix stucco with water infiltration<br /> <br /> Presented by: Jerry Guzzo: Guzzo Stucco contractors are renowned for creating beautiful structures and designs\, and are recognized as leaders in the stucco industry serving Builders and home owners needs in the tri state area since 1954.  (2010 BLSJ GRAND SPONSOR)<br /> &nbsp\;</p> <p>&nbsp\;</p>
LOCATION:114 Haddontowne Court Cherry Hill\, NJ 08034
UID:e.9292.1244
SEQUENCE:3
DTSTAMP:20260421T181842Z
URL:https://members.blsj.com/events/details/seminar-what-happened-to-stucco-03-12-2010-1244
END:VEVENT

END:VCALENDAR
