BEGIN:VCALENDAR
VERSION:2.0
PRODID:-//ChamberMaster//Event Calendar 2.0//EN
METHOD:PUBLISH
X-PUBLISHED-TTL:P3D
REFRESH-INTERVAL:P3D
CALSCALE:GREGORIAN
BEGIN:VEVENT
DTSTART:20100316T220000Z
DTEND:20100316T160000Z
X-MICROSOFT-CDO-ALLDAYEVENT:FALSE
SUMMARY:SEMINAR: Use Your Pay Per Click Budget Wisely
DESCRIPTION:Use Your Pay-Per-Click Budget Wisely \n \n About the Seminar:\n \n While pay-per-click advertising can yield incredible results\, managing a pay-per-click account can be overwhelming. There are so many options\, components and factors to consider that it's fairly easy to blow your budget without getting the results you expected. However\, the internet is growing so quickly that the opportunity to reach potential customers at the exact time that they are in need of your products or services is difficult to ignore. So what's a business to do? \n Renowned for building and maintaining highly successful online marketing campaigns that have reaped great rewards for clients\, Miles Technologies will share unique insights and effective pay-per-click strategies for online success. This educational seminar will provide comprehensive\, step-by-step instructions on ways to avoid expensive pay-per-click mistakes. Business owners will leave the seminar with a focused plan of action for creating and managing a pay-per-click campaign that will have customers scurrying to hire them. \n \n How Will You Benefit?\n This instructional seminar will give you the tools and confidence to use the internet to your advantage and construct a pay-per-click campaign aligned with your budget and your goals. Attendees will be provided with an overview of:\n   Campaigns & Ad Groups   Segmenting/Targeting\n   Writing Quality\, Keyword-Rich Ads\n   Ad Testing\n   Relevant Landing Pages\n   Keyword Match Types\n   Conversions\n   And more! Learn From the Best\n Miles Technologies' team of dedicated online marketing specialists has extensive experience and numerous certifications including:\n   Google AdWords Certified\n   Google Analytics Certified\n   Search Engine College Certified Search Engine Marketers\n We have the expertise to guide you to success!
X-ALT-DESC;FMTTYPE=text/html:<p><strong><span style="color: #ff0000"><span style="font-size: small">Use Your Pay-Per-Click Budget Wisely </span></span></strong><span style="color: #ff0000" /><br /> <br /> About the Seminar:<br /> <br /> While pay-per-click advertising can yield incredible results\, managing a pay-per-click account can be overwhelming. There are so many options\, components and factors to consider that it&rsquo\;s fairly easy to blow your budget without getting the results you expected. However\, the internet is growing so quickly that the opportunity to reach potential customers at the exact time that they are in need of your products or services is difficult to ignore. So what&rsquo\;s a business to do? <br /> Renowned for building and maintaining highly successful online marketing campaigns that have reaped great rewards for clients\, Miles Technologies will share unique insights and effective pay-per-click strategies for online success. This educational seminar will provide comprehensive\, step-by-step instructions on ways to avoid expensive pay-per-click mistakes. Business owners will leave the seminar with a focused plan of action for creating and managing a pay-per-click campaign that will have customers scurrying to hire them. <br /> <br /> <u><strong>How Will You Benefit?</strong></u><br /> This instructional seminar will give you the tools and confidence to use the internet to your advantage and construct a pay-per-click campaign aligned with your budget and your goals. Attendees will be provided with an overview of:<br /> &bull\; Campaigns &amp\; Ad Groups &ndash\; Segmenting/Targeting<br /> &bull\; Writing Quality\, Keyword-Rich Ads<br /> &bull\; Ad Testing<br /> &bull\; Relevant Landing Pages<br /> &bull\; Keyword Match Types<br /> &bull\; Conversions<br /> &bull\; And more!</p> <p>Learn From the Best<br /> Miles Technologies&rsquo\; team of dedicated online marketing specialists has extensive experience and numerous certifications including:<br /> &bull\; Google AdWords Certified<br /> &bull\; Google Analytics Certified<br /> &bull\; Search Engine College Certified Search Engine Marketers<br /> We have the expertise to guide you to success!</p> <p>&nbsp\;</p>
LOCATION:114 Haddontowne Court Cherry Hill\, NJ 08034
UID:e.9292.705
SEQUENCE:3
DTSTAMP:20260421T181717Z
URL:https://members.blsj.com/events/details/seminar-use-your-pay-per-click-budget-wisely-03-16-2010-705
END:VEVENT

END:VCALENDAR
