BEGIN:VCALENDAR
VERSION:2.0
PRODID:-//ChamberMaster//Event Calendar 2.0//EN
METHOD:PUBLISH
X-PUBLISHED-TTL:P3D
REFRESH-INTERVAL:P3D
CALSCALE:GREGORIAN
BEGIN:VEVENT
DTSTART:20100429T220000Z
DTEND:20100429T160000Z
X-MICROSOFT-CDO-ALLDAYEVENT:FALSE
SUMMARY:SEMINAR: Use Social Media to Boost Business Success
DESCRIPTION:Normal 0   false false false                /* Style Definitions */ table.MsoNormalTable {mso-style-name:"Table Normal"\; mso-tstyle-rowband-size:0\; mso-tstyle-colband-size:0\; mso-style-noshow:yes\; mso-style-parent:""\; mso-padding-alt:0in 5.4pt 0in 5.4pt\; mso-para-margin:0in\; mso-para-margin-bottom:.0001pt\; mso-pagination:widow-orphan\; font-size:10.0pt\; font-family:"Times New Roman"\; mso-ansi-language:#0400\; mso-fareast-language:#0400\; mso-bidi-language:#0400\;}       USE SOCIAL MEDIA TO BOOST BUSINESS SUCCESS Miles Technologies Shows You How!  About the Seminar Think you don't need to understand social media? Think again.  A recent report by The Nielsen Company revealed that time spent on social media networking sites increased by 82% in the past year alone.  Not only is social media here to stay\, but its popularity is growing at an incredible rate.  Consumers are spending the majority of their overall internet time on social networks and blogs. If you're not there to meet them\, not only is your business viewed as out of touch\, but you actually risk losing new and existing business to competitors. Renowned for creating and implementing powerful social media optimization campaigns\, Miles Technologies will share unique insights and effective social media strategies for online business success.  This educational seminar will provide comprehensive step-by-step instructions on building and maintaining a strong social media presence.  You will leave this seminar with a solid understanding of how social media can be leveraged to create targeted marketing opportunities. How Will You Benefit? A strong social media presence can help to increase website traffic\, improve marketing effectiveness\, maximize search engine visibility and enhance brand exposure. Designed to give you the tools and the confidence you need to use social media effectively\, this instructional seminar will provide an overview of:         Creating profiles on Twitter.com\, Facebook.com & LinkedIn.com         Using social media to find and interact with target  markets         Creating\, promoting and updating blogs on Wordpress.com         Implementing effective strategies for social media optimization (SMO) Learn From the Professionals Miles Technologies' team of dedicated online marketing specialists has extensive experience and numerous certifications including:         Google AdWords Certified         Google Analytics Certified         Search Engine College Certified Search Engine Marketers We have the expertise to guide you to success!  Date: Thursday April 29\, 2010 Time: 8:45am-9:00am (Breakfast) 9:00am-11:00am (Seminar) Location: The Builders League of South Jersey 114 Haddontowne Court\n Cherry Hill\, NJ 08034\n \n  To register for this seminar\, call (856) 616-8460.
X-ALT-DESC;FMTTYPE=text/html:<p> <meta http-equiv="Content-Type" content="text/html\; charset=utf-8"> <meta name="ProgId" content="Word.Document"> <meta name="Generator" content="Microsoft Word 11"> <meta name="Originator" content="Microsoft Word 11"> <link href="file:///C:%5CDOCUME%7E1%5CMarlene%5CLOCALS%7E1%5CTemp%5Cmsohtml1%5C02%5Cclip_filelist.xml" rel="File-List" /><!--[if gte mso 9]><xml> <w:WordDocument> <w:View>Normal</w:View> <w:Zoom>0</w:Zoom> <w:PunctuationKerning /> <w:ValidateAgainstSchemas /> <w:SaveIfXMLInvalid>false</w:SaveIfXMLInvalid> <w:IgnoreMixedContent>false</w:IgnoreMixedContent> <w:AlwaysShowPlaceholderText>false</w:AlwaysShowPlaceholderText> <w:Compatibility> <w:BreakWrappedTables /> <w:SnapToGridInCell /> <w:WrapTextWithPunct /> <w:UseAsianBreakRules /> <w:DontGrowAutofit /> </w:Compatibility> </w:WordDocument> </xml><![endif]--><!--[if gte mso 9]><xml> <w:LatentStyles DefLockedState="false" LatentStyleCount="156"> </w:LatentStyles> </xml><![endif]--><style type="text/css"> <!--  /* Font Definitions */  @font-face    {font-family:Wingdings\;    panose-1:5 0 0 0 0 0 0 0 0 0\;    mso-font-charset:2\;    mso-generic-font-family:auto\;    mso-font-pitch:variable\;    mso-font-signature:0 268435456 0 0 -2147483648 0\;} @font-face    {font-family:Calibri\;    mso-font-alt:"Times New Roman"\;    mso-font-charset:0\;    mso-generic-font-family:auto\;    mso-font-pitch:auto\;    mso-font-signature:3 0 0 0 1 0\;}  /* Style Definitions */  p.MsoNormal\, li.MsoNormal\, div.MsoNormal    {mso-style-parent:""\;    margin-top:0in\;    margin-right:0in\;    margin-bottom:10.0pt\;    margin-left:0in\;    line-height:115%\;    mso-pagination:widow-orphan\;    font-size:11.0pt\;    font-family:Calibri\;    mso-fareast-font-family:Calibri\;    mso-bidi-font-family:"Times New Roman"\;} p.ListParagraph\, li.ListParagraph\, div.ListParagraph    {mso-style-name:"List Paragraph"\;    margin-top:0in\;    margin-right:0in\;    margin-bottom:10.0pt\;    margin-left:.5in\;    mso-add-space:auto\;    line-height:115%\;    mso-pagination:widow-orphan\;    font-size:11.0pt\;    font-family:Calibri\;    mso-fareast-font-family:Calibri\;    mso-bidi-font-family:"Times New Roman"\;} p.ListParagraphCxSpFirst\, li.ListParagraphCxSpFirst\, div.ListParagraphCxSpFirst    {mso-style-name:"List ParagraphCxSpFirst"\;    mso-style-type:export-only\;    margin-top:0in\;    margin-right:0in\;    margin-bottom:0in\;    margin-left:.5in\;    margin-bottom:.0001pt\;    mso-add-space:auto\;    line-height:115%\;    mso-pagination:widow-orphan\;    font-size:11.0pt\;    font-family:Calibri\;    mso-fareast-font-family:Calibri\;    mso-bidi-font-family:"Times New Roman"\;} p.ListParagraphCxSpMiddle\, li.ListParagraphCxSpMiddle\, div.ListParagraphCxSpMiddle    {mso-style-name:"List ParagraphCxSpMiddle"\;    mso-style-type:export-only\;    margin-top:0in\;    margin-right:0in\;    margin-bottom:0in\;    margin-left:.5in\;    margin-bottom:.0001pt\;    mso-add-space:auto\;    line-height:115%\;    mso-pagination:widow-orphan\;    font-size:11.0pt\;    font-family:Calibri\;    mso-fareast-font-family:Calibri\;    mso-bidi-font-family:"Times New Roman"\;} p.ListParagraphCxSpLast\, li.ListParagraphCxSpLast\, div.ListParagraphCxSpLast    {mso-style-name:"List ParagraphCxSpLast"\;    mso-style-type:export-only\;    margin-top:0in\;    margin-right:0in\;    margin-bottom:10.0pt\;    margin-left:.5in\;    mso-add-space:auto\;    line-height:115%\;    mso-pagination:widow-orphan\;    font-size:11.0pt\;    font-family:Calibri\;    mso-fareast-font-family:Calibri\;    mso-bidi-font-family:"Times New Roman"\;} @page Section1    {size:8.5in 11.0in\;    margin:.5in .5in .5in .5in\;    mso-header-margin:.5in\;    mso-footer-margin:.5in\;    mso-paper-source:0\;} div.Section1    {page:Section1\;}  /* List Definitions */  @list l0    {mso-list-id:523129258\;    mso-list-type:hybrid\;    mso-list-template-ids:1140229816 67698689 67698691 67698693 67698689 67698691 67698693 67698689 67698691 67698693\;} @list l0:level1    {mso-level-number-format:bullet\;    mso-level-text:???\;    mso-level-tab-stop:none\;    mso-level-number-position:left\;    text-indent:-.25in\;    font-family:Symbol\;} @list l1    {mso-list-id:1948461623\;    mso-list-type:hybrid\;    mso-list-template-ids:-1776534836 67698689 67698691 67698693 67698689 67698691 67698693 67698689 67698691 67698693\;} @list l1:level1    {mso-level-number-format:bullet\;    mso-level-text:???\;    mso-level-tab-stop:none\;    mso-level-number-position:left\;    margin-left:1.0in\;    text-indent:-.25in\;    font-family:Symbol\;} @list l0:level1 lfo1    {mso-level-start-at:0\;} ol    {margin-bottom:0in\;} ul    {margin-bottom:0in\;} --> </style><!--[if gte mso 10]> <style> /* Style Definitions */ table.MsoNormalTable {mso-style-name:"Table Normal"\; mso-tstyle-rowband-size:0\; mso-tstyle-colband-size:0\; mso-style-noshow:yes\; mso-style-parent:""\; mso-padding-alt:0in 5.4pt 0in 5.4pt\; mso-para-margin:0in\; mso-para-margin-bottom:.0001pt\; mso-pagination:widow-orphan\; font-size:10.0pt\; font-family:"Times New Roman"\; mso-ansi-language:#0400\; mso-fareast-language:#0400\; mso-bidi-language:#0400\;} </style> <![endif]--></meta> </meta> </meta> </meta> </p> <p class="MsoNormal"><span style=""><span style=""><span style=""><span style="" /></span></span></span><strong><span style="font-size: medium\;">USE SOCIAL MEDIA TO BOOST BUSINESS SUCCESS</span></strong></p> <p class="MsoNormal"><span style=""><span style=""><span style=""><span style="" /></span></span></span><span style=""><span style=""><span style=""><span style="" /></span></span></span><span style=""><span style=""><span style=""><span style=""><i style="">Miles Technologies Shows You How!<o:p></o:p></i></span></span></span></span></p> <p><span style="" /><span style="" /></p> <p class="MsoNormal" style=""><span style=""><span style=""><b><span style="font-size: 13pt\; line-height: 115%\; color: rgb(40\, 57\, 131)\;">About the Seminar<o:p></o:p></span></b></span></span></p> <p class="MsoNormal" style="line-height: 150%\;"><span style=""><span style=""><span style="color: black\;">Think you don&rsquo\;t need to understand social media? Think again.<span style="">&nbsp\; </span>A recent report by The Nielsen Company revealed that time spent on social media networking sites increased by 82% in the past year alone.<span style="">&nbsp\; </span>Not only is social media here to stay\, but its popularity is growing at an incredible rate. <o:p></o:p></span></span></span></p> <p class="MsoNormal" style="line-height: 150%\;"><span style=""><span style=""><span style="color: black\;">Consumers are spending the majority of their overall internet time on social networks and blogs. If you&rsquo\;re not there to meet them\, not only is your business viewed as out of touch\, but you actually risk losing new and existing business to competitors.<o:p></o:p></span></span></span></p> <p class="MsoNormal" style="line-height: 150%\;"><span style=""><span style=""><span style="color: rgb(33\, 29\, 30)\;">Renowned for creating and implementing powerful social media optimization campaigns\, Miles Technologies will share unique insights and effective social media strategies for online business success. <span style="">&nbsp\;</span>This educational seminar will provide comprehensive step-by-step instructions on building and maintaining a strong social media presence.<span style="">&nbsp\; </span>You will leave this seminar with a solid understanding of how social media can be leveraged to create targeted marketing opportunities.<o:p></o:p></span></span></span></p> <p class="MsoNormal" style=""><span style=""><span style=""><b><span style="font-size: 14pt\; line-height: 115%\; color: rgb(39\, 58\, 131)\;">How Will You Benefit?<o:p></o:p></span></b></span></span></p> <p class="MsoNormal" style="line-height: 150%\;"><span style=""><span style=""><span style="color: rgb(33\, 29\, 30)\;">A strong social media presence can help to increase website traffic\, improve marketing effectiveness\, maximize search engine visibility and enhance brand exposure.<o:p></o:p></span></span></span></p> <p class="MsoNormal" style="line-height: 150%\;"><span style=""><span style=""><span style="color: rgb(33\, 29\, 30)\;">Designed to give you the tools and the confidence you need to use social media effectively\, this instructional seminar will provide an overview of:<o:p></o:p></span></span></span></p> <p class="ListParagraphCxSpFirst" style="margin-left: 1in\; text-indent: -0.25in\; line-height: 150%\;"><span style=""><span style=""><!--[if !supportLists]--><span style="font-family: Symbol\; color: rgb(33\, 29\, 30)\;"><span style="">&middot\;<span style="font: 7pt &quot\;Times New Roman&quot\;\;">&nbsp\;&nbsp\;&nbsp\;&nbsp\;&nbsp\;&nbsp\; </span></span></span><!--[endif]--><span style="color: rgb(33\, 29\, 30)\;">Creating profiles on Twitter.com\, Facebook.com &amp\; LinkedIn.com<o:p></o:p></span></span></span></p> <p class="ListParagraphCxSpMiddle" style="margin-left: 1in\; text-indent: -0.25in\; line-height: 150%\;"><span style=""><span style=""><!--[if !supportLists]--><span style="font-family: Symbol\; color: rgb(33\, 29\, 30)\;"><span style="">&middot\;<span style="font: 7pt &quot\;Times New Roman&quot\;\;">&nbsp\;&nbsp\;&nbsp\;&nbsp\;&nbsp\;&nbsp\; </span></span></span><!--[endif]--><span style="color: rgb(33\, 29\, 30)\;">Using social media to find and interact with target <span style="">&nbsp\;</span>markets<o:p></o:p></span></span></span></p> <p class="ListParagraphCxSpMiddle" style="margin-left: 1in\; text-indent: -0.25in\; line-height: 150%\;"><span style=""><span style=""><!--[if !supportLists]--><span style="font-family: Symbol\; color: rgb(33\, 29\, 30)\;"><span style="">&middot\;<span style="font: 7pt &quot\;Times New Roman&quot\;\;">&nbsp\;&nbsp\;&nbsp\;&nbsp\;&nbsp\;&nbsp\; </span></span></span><!--[endif]--><span style="color: rgb(33\, 29\, 30)\;">Creating\, promoting and updating blogs on Wordpress.com<o:p></o:p></span></span></span></p> <p class="ListParagraphCxSpLast" style="margin-left: 1in\; text-indent: -0.25in\; line-height: 150%\;"><span style=""><span style=""><!--[if !supportLists]--><span style="font-family: Symbol\; color: rgb(33\, 29\, 30)\;"><span style="">&middot\;<span style="font: 7pt &quot\;Times New Roman&quot\;\;">&nbsp\;&nbsp\;&nbsp\;&nbsp\;&nbsp\;&nbsp\; </span></span></span><!--[endif]--><span style="color: rgb(33\, 29\, 30)\;">Implementing effective strategies for social media optimization (SMO)<o:p></o:p></span></span></span></p> <p class="MsoNormal" style=""><span style=""><span style=""><b><span style="color: rgb(39\, 58\, 131)\;">Learn From the Professionals<o:p></o:p></span></b></span></span></p> <p class="MsoNormal" style="line-height: 150%\;"><span style=""><span style=""><span style="color: rgb(33\, 29\, 30)\;">Miles Technologies&rsquo\; team of dedicated online marketing specialists has extensive experience and numerous certifications including:<o:p></o:p></span></span></span></p> <p class="ListParagraph" style="margin-bottom: 0.0001pt\; text-indent: -0.25in\; line-height: 150%\;"><span style=""><span style=""><!--[if !supportLists]--><span style="font-family: Symbol\; color: rgb(33\, 29\, 30)\;"><span style="">&middot\;<span style="font: 7pt &quot\;Times New Roman&quot\;\;">&nbsp\;&nbsp\;&nbsp\;&nbsp\;&nbsp\;&nbsp\; </span></span></span><!--[endif]--><span style="color: rgb(33\, 29\, 30)\;">Google AdWords Certified<o:p></o:p></span></span></span></p> <p class="ListParagraph" style="margin-bottom: 0.0001pt\; text-indent: -0.25in\; line-height: 150%\;"><span style=""><span style=""><!--[if !supportLists]--><span style="font-family: Symbol\; color: rgb(33\, 29\, 30)\;"><span style="">&middot\;<span style="font: 7pt &quot\;Times New Roman&quot\;\;">&nbsp\;&nbsp\;&nbsp\;&nbsp\;&nbsp\;&nbsp\; </span></span></span><!--[endif]--><span style="color: rgb(33\, 29\, 30)\;">Google Analytics Certified<o:p></o:p></span></span></span></p> <p class="ListParagraph" style="margin-bottom: 0.0001pt\; text-indent: -0.25in\; line-height: 150%\;"><span style=""><span style=""><!--[if !supportLists]--><span style="font-family: Symbol\; color: rgb(33\, 29\, 30)\;"><span style="">&middot\;<span style="font: 7pt &quot\;Times New Roman&quot\;\;">&nbsp\;&nbsp\;&nbsp\;&nbsp\;&nbsp\;&nbsp\; </span></span></span><!--[endif]--><span style="color: rgb(33\, 29\, 30)\;">Search Engine College Certified Search Engine Marketers<o:p></o:p></span></span></span></p> <p class="MsoNormal" style="line-height: 150%\;"><span style=""><span style=""><span style="color: rgb(33\, 29\, 30)\;">We have the expertise to guide you to success!<o:p></o:p></span></span></span></p> <p><span style="" /><span style="" /></p> <p class="MsoNormal"><b style="">Date:</b> Thursday April 29\, 2010</p> <p class="MsoNormal"><b style="">Time:</b> 8:45am-9:00am (Breakfast) 9:00am-11:00am (Seminar)</p> <p class="MsoNormal" style="margin-bottom: 0.0001pt\; line-height: normal\;"><b style="">Location:</b> The Builders League of South Jersey</p> <p class="MsoNormal" style="margin-bottom: 0.0001pt\; line-height: normal\;"><span style="color: black\;">114 Haddontowne Court<br /> Cherry Hill\, NJ 08034<br style="" /> <!--[if !supportLineBreakNewLine]--><br style="" /> <!--[endif]--><b style=""><o:p></o:p></b></span></p> <p class="MsoNormal" style="margin-bottom: 0.0001pt\; line-height: normal\;"><b style=""><span style="font-size: 14pt\; color: rgb(0\, 176\, 80)\;">To register for this seminar\, call (856) 616-8460.<o:p></o:p></span></b></p> <p class="MsoNormal" style="margin-bottom: 0.0001pt\; line-height: normal\;"><span style="">&nbsp\;&nbsp\;&nbsp\;&nbsp\;&nbsp\;&nbsp\;&nbsp\;&nbsp\;&nbsp\;&nbsp\;&nbsp\; </span></p> <p class="MsoNormal"><o:p>&nbsp\;</o:p></p> <p class="MsoNormal"><o:p>&nbsp\;</o:p></p> <p>&nbsp\;</p>
LOCATION:114 Haddontowne Court Cherry Hill\, NJ 08034
UID:e.9292.1429
SEQUENCE:3
DTSTAMP:20260421T165109Z
URL:https://members.blsj.com/events/details/seminar-use-social-media-to-boost-business-success-04-29-2010-1429
END:VEVENT

END:VCALENDAR
