BEGIN:VCALENDAR
VERSION:2.0
PRODID:-//ChamberMaster//Event Calendar 2.0//EN
METHOD:PUBLISH
X-PUBLISHED-TTL:P3D
REFRESH-INTERVAL:P3D
CALSCALE:GREGORIAN
BEGIN:VEVENT
DTSTART:20050324T230000Z
DTEND:20050324T170000Z
X-MICROSOFT-CDO-ALLDAYEVENT:FALSE
SUMMARY:Seminar: Understanding the Private Well Testing Act - CANCELED
DESCRIPTION:Seminar Outline  "Understanding the Private Well Testing Act"  1. Introduction          a. South Jersey Water Test LLC (SJWT) Background 2. What is the Private Well Testing Act?          a. Requirements by Law          b. Results to Date Statewide          c. Treated Water Sample When a Treatment System is     Present          d. Standard Turnaround Times          e.  Home Sales\, Rentals\, New Wells\, Replacement Wells 3.  Reporting Obligations          a. PWTA Report - Buyer/Seller          b. Electronic Submission to DEP          c. Nitrates and Bacteria 4. Exceedances for Mercury\, Volatile Organic Compounds\, and Gross  Alpha                                                                               Radionuclides 5. What Builders and Homeowners can do to make the Process Easier 6. Volume Pricing 7. Questions and Answers      Speaker: Mark J. Reither\, South Jersey Water Test\, LLC
X-ALT-DESC;FMTTYPE=text/html:Seminar Outline  "Understanding the Private Well Testing Act"  1. Introduction          a. South Jersey Water Test LLC (SJWT) Background 2. What is the Private Well Testing Act?          a. Requirements by Law          b. Results to Date Statewide          c. Treated Water Sample When a Treatment System is     Present          d. Standard Turnaround Times          e.  Home Sales\, Rentals\, New Wells\, Replacement Wells 3.  Reporting Obligations          a. PWTA Report - Buyer/Seller          b. Electronic Submission to DEP          c. Nitrates and Bacteria 4. Exceedances for Mercury\, Volatile Organic Compounds\, and Gross  Alpha                                                                               Radionuclides 5. What Builders and Homeowners can do to make the Process Easier 6. Volume Pricing 7. Questions and Answers      Speaker: Mark J. Reither\, South Jersey Water Test\, LLC
LOCATION:Builders League of South Jersey 114 Haddontowne Ct Cherry Hill\, NJ 08034
UID:e.9292.1243
SEQUENCE:3
DTSTAMP:20260420T221555Z
URL:https://members.blsj.com/events/details/seminar-understanding-the-private-well-testing-act-canceled-03-24-2005-1243
END:VEVENT

END:VCALENDAR
