BEGIN:VCALENDAR
VERSION:2.0
PRODID:-//ChamberMaster//Event Calendar 2.0//EN
METHOD:PUBLISH
X-PUBLISHED-TTL:P3D
REFRESH-INTERVAL:P3D
CALSCALE:GREGORIAN
BEGIN:VEVENT
DTSTART:20061005T220000Z
DTEND:20061005T220000Z
X-MICROSOFT-CDO-ALLDAYEVENT:FALSE
SUMMARY:Seminar Topic: Wind-Borne Debris and the ICC
DESCRIPTION:The topics that will be covered will be:   1. Structural Aspects of Window Specifications:      a. Reasons for Structural Safety     b. Factors Affecting Design     c. Wind Speed Lines and Design Pressure     d. Attachment Requirements 2. Window Testing Requirements     a. Window Types     b. Performance Tests     c. Test Reports     d. Labeling 3. Required Opening Protection In Wind-Borne Debris Regions     a. Why Opening Protection     b. Hurricane Prone Regions and New Jersey     c. Wind-Borne Debris Requirements     d. Impact Tests     e. Wind-Borne Debris Protection Options Qualifies for CEU's for the New Jersey State Code Officials Speaker: Jeffrey Rafter\, Public Affairs & Code Compliance\, PGT Industries
X-ALT-DESC;FMTTYPE=text/html:<div><span class="539541312-06092006"><font face="Arial" color="#0000ff" size="2">The topics that will be covered will be:</font></span></div> <div><span class="539541312-06092006"></span>&nbsp\;</div> <div><span class="539541312-06092006"><font face="Arial" color="#0000ff" size="2">1. Structural Aspects of Window Specifications: </font></span></div> <div><span class="539541312-06092006"><font face="Arial" color="#0000ff" size="2">&nbsp\;&nbsp\;&nbsp\; a. Reasons for Structural Safety</font></span></div> <div><span class="539541312-06092006"><font face="Arial" color="#0000ff" size="2">&nbsp\;&nbsp\;&nbsp\; b. Factors Affecting Design</font></span></div> <div><span class="539541312-06092006">&nbsp\;&nbsp\;&nbsp\; <font face="Arial" color="#0000ff" size="2">c. Wind Speed Lines and Design Pressure</font></span></div> <div><span class="539541312-06092006">&nbsp\;&nbsp\;&nbsp\; <font face="Arial" color="#0000ff" size="2">d. Attachment Requirements</font></span></div> <div><span class="539541312-06092006"><font face="Arial" color="#0000ff" size="2">2. Window Testing Requirements</font></span></div> <div><span class="539541312-06092006">&nbsp\;&nbsp\;&nbsp\; <font face="Arial" color="#0000ff" size="2">a. Window Types</font></span></div> <div><span class="539541312-06092006">&nbsp\;&nbsp\;&nbsp\; <font face="Arial" color="#0000ff" size="2">b. Performance Tests</font></span></div> <div><span class="539541312-06092006">&nbsp\;&nbsp\;&nbsp\; <font face="Arial" color="#0000ff" size="2">c. Test Reports</font></span></div> <div><span class="539541312-06092006">&nbsp\;&nbsp\;&nbsp\; <font face="Arial" color="#0000ff" size="2">d. Labeling</font></span></div> <div><span class="539541312-06092006"><font face="Arial" color="#0000ff" size="2">3. Required Opening Protection In Wind-Borne Debris Regions</font></span></div> <div><span class="539541312-06092006">&nbsp\;&nbsp\;&nbsp\; <font face="Arial" color="#0000ff" size="2">a. Why Opening Protection</font></span></div> <div><span class="539541312-06092006">&nbsp\;&nbsp\;&nbsp\; <font face="Arial" color="#0000ff" size="2">b. Hurricane Prone Regions and New Jersey</font></span></div> <div><span class="539541312-06092006">&nbsp\;&nbsp\;&nbsp\; <font face="Arial" color="#0000ff" size="2">c. Wind-Borne Debris Requirements</font></span></div> <div><span class="539541312-06092006">&nbsp\;&nbsp\;&nbsp\; <font face="Arial" color="#0000ff" size="2">d. Impact Tests</font></span></div> <div><span class="539541312-06092006">&nbsp\;&nbsp\;&nbsp\; <font face="Arial" color="#0000ff" size="2">e. Wind-Borne Debris Protection Options</font></span></div> <p><font size="2"><font color="#0000ff">Qualifies for CEU&rsquo\;s for the New Jersey State <span class="539541312-06092006"><font face="Arial">Code Officials</font></span></font></font></p> <p><font color="#0000ff">Speaker: Jeffrey Rafter\, Public Affairs &amp\; Code Compliance\, PGT Industries</font> </p>
LOCATION:Builders League Cherry Hill\, NJ 08034
UID:e.9292.1547
SEQUENCE:3
DTSTAMP:20260422T011220Z
URL:https://members.blsj.com/events/details/seminar-topic-wind-borne-debris-and-the-icc-10-05-2006-1547
END:VEVENT

END:VCALENDAR
