BEGIN:VCALENDAR
VERSION:2.0
PRODID:-//ChamberMaster//Event Calendar 2.0//EN
METHOD:PUBLISH
X-PUBLISHED-TTL:P3D
REFRESH-INTERVAL:P3D
CALSCALE:GREGORIAN
BEGIN:VEVENT
DTSTART:20050609T220000Z
DTEND:20050609T160000Z
X-MICROSOFT-CDO-ALLDAYEVENT:FALSE
SUMMARY:Seminar: The New COAH Regulations - Postponed
DESCRIPTION:"Major Changes In Fair Share Calculation and other COAH Rules"     o   "Growth share" versus regional prospective need\; o   Rehabilitation share\; o   Resulting fair share - municipalities\, regions\, state\; o   Mismatch between allocation and delivery periods\; o   Zoning\, other techniques to satisfy fair share\; o   Required Municipal action and deadlines.    Legal Issues and How to Benefit o   Stern Judicial Attitudes\; o   Why "growth share" and rehabilitation shares are inherently suspect\;  o   Inclusionary Zoning - still the lynchpin of compliance\; o   "In lieu" fees\, developer fees\; o   Offers to resolve "mismatch"     Practical Issues a.   Growth Share - How does it Work? i.   Residential  ii.   Non-Residential  iii.   Mixed Use b.   Case Studies i.   Fully Developed Towns - A Development Opportunity? ii.   Haddonfield  - The importance of Due Diligence under COAH c.   Implementation - Local Ordinance Adoption i.   Sample Ordinances ii.   How COAH will hit your budget d.   Wrap Up  Speaker: John Cranmer\, Esq. Archer Griener
X-ALT-DESC;FMTTYPE=text/html:"Major Changes In Fair Share Calculation and other COAH Rules"     o   "Growth share" versus regional prospective need\; o   Rehabilitation share\; o   Resulting fair share - municipalities\, regions\, state\; o   Mismatch between allocation and delivery periods\; o   Zoning\, other techniques to satisfy fair share\; o   Required Municipal action and deadlines.    Legal Issues and How to Benefit o   Stern Judicial Attitudes\; o   Why "growth share" and rehabilitation shares are inherently suspect\;  o   Inclusionary Zoning - still the lynchpin of compliance\; o   "In lieu" fees\, developer fees\; o   Offers to resolve "mismatch"     Practical Issues a.   Growth Share - How does it Work? i.   Residential  ii.   Non-Residential  iii.   Mixed Use b.   Case Studies i.   Fully Developed Towns - A Development Opportunity? ii.   Haddonfield  - The importance of Due Diligence under COAH c.   Implementation - Local Ordinance Adoption i.   Sample Ordinances ii.   How COAH will hit your budget d.   Wrap Up  Speaker: John Cranmer\, Esq. Archer Griener
LOCATION:Builders League of South Jersey 114 Haddontowne Ct Cherry Hill\, NJ 08034
UID:e.9292.1428
SEQUENCE:3
DTSTAMP:20260421T020735Z
URL:https://members.blsj.com/events/details/seminar-the-new-coah-regulations-postponed-06-09-2005-1428
END:VEVENT

END:VCALENDAR
