BEGIN:VCALENDAR
VERSION:2.0
PRODID:-//ChamberMaster//Event Calendar 2.0//EN
METHOD:PUBLISH
X-PUBLISHED-TTL:P3D
REFRESH-INTERVAL:P3D
CALSCALE:GREGORIAN
BEGIN:VEVENT
DTSTART:20100507T010000Z
DTEND:20100506T160000Z
X-MICROSOFT-CDO-ALLDAYEVENT:FALSE
SUMMARY:Seminar: "The Aging Workforce and How it Relates to Your Bottom Line."
DESCRIPTION:The Aging Workforce and How it Relates to your Bottom Line\n \n   The economy and the baby boom has created the perfect storm of an aging workforce. Today's workforce is getting older and their retirement has now been postponed as a result of a recession that has deteriorated retirement plans and their real estate values. \n   \n   Health Insurance costs and Workers Comp losses will be directly affected by these trends. \n   \n   Talking points include\n o Work Site Safety \n o Trends in Safety Equipment \n o Return to Work Programs\n o Health Insurance Trends \n o Experience Rating Modification Calculation overview \n o NJ Construction Credit \n o Effective Ways to Reduce Your Workers Compensation Costs\n   Ronald Hicks\, CIC\, CRIS  \n Producer Commercial Lines Division
X-ALT-DESC;FMTTYPE=text/html:<p class="MsoNormal" align="left" style="margin: 0in 0in 0pt"><span id="1271946150370S" style="display: none">&nbsp\;</span></p> <p class="MsoNormal" align="left" style="margin: 0in 0in 0pt"><span style="font-family: Arial\; font-size: 10pt">The Aging Workforce and How it Relates to your Bottom Line</span><br /> <br /> &bull\; The economy and the baby boom has created the perfect storm of an aging workforce. Today's workforce is getting older and their retirement has now been postponed as a result of a recession that has deteriorated retirement plans and their real estate values. <br /> &bull\; <br /> &bull\; Health Insurance costs and Workers Comp losses will be directly affected by these trends. <br /> &bull\; <br /> &bull\; Talking points include<br /> o Work Site Safety <br /> o Trends in Safety Equipment <br /> o Return to Work Programs<br /> o Health Insurance Trends <br /> o Experience Rating Modification Calculation overview <br /> o NJ Construction Credit <br /> o Effective Ways to Reduce Your Workers Compensation Costs<br /> &nbsp\;</p> <p>Ronald Hicks\, CIC\, CRIS&nbsp\;&nbsp\;<br /> Producer Commercial Lines Division<br /> <br /> &nbsp\;</p> <p><span id="1271946150917E" style="display: none">&nbsp\;</span></p>
LOCATION:114 Haddontowne Court Cherry Hill\, NJ 08034
UID:e.9292.570
SEQUENCE:3
DTSTAMP:20260421T150522Z
URL:https://members.blsj.com/events/details/seminar-the-aging-workforce-and-how-it-relates-to-your-bottom-line-05-06-2010-570
END:VEVENT

END:VCALENDAR
