BEGIN:VCALENDAR
VERSION:2.0
PRODID:-//ChamberMaster//Event Calendar 2.0//EN
METHOD:PUBLISH
X-PUBLISHED-TTL:P3D
REFRESH-INTERVAL:P3D
CALSCALE:GREGORIAN
BEGIN:VEVENT
DTSTART:20090513T220000Z
DTEND:20090513T160000Z
X-MICROSOFT-CDO-ALLDAYEVENT:FALSE
SUMMARY:Seminar: Ten Ways to Save on Your Business Insurance-POSTPONED
DESCRIPTION:10 EASY WAYS TO REDUCE YOUR BUSINESS INSURANCE EXPENSE AND NOT SACRIFICE COVERAGE ~Wednesday\, May 13\, 2009 ~ There are possibly 101 ways to effectively manage business insurance expense. This seminar will discuss 10 of the simplest methods to assure a business owner they are obtaining the best possible rates without having to reduce coverage. The program will address workers compensation\, experience rating\, property insurance\, liability insurance and automobile insurance\, and provide methods to maximize reductions for each type. \n Presented by: Anthony D. Bevilacqua\, CPCU\, President\n Anthony & Company\n         BLSJ policy requires payment prior to the event or at the door.  \n All cancellations MUST BE given in writing at least 72 hours in advance or you will be billed.
X-ALT-DESC;FMTTYPE=text/html:<p style="text-align: center"><span style="font-size: small">10 EASY WAYS TO REDUCE YOUR BUSINESS INSURANCE EXPENSE AND NOT SACRIFICE COVERAGE</span></p> <p style="text-align: center"><span style="font-size: small">~Wednesday\, May 13\, 2009 ~</span></p> <p>There are possibly 101 ways to effectively manage business insurance expense. This seminar will discuss 10 of the simplest methods to assure a business owner they are obtaining the best possible rates without having to reduce coverage. The program will address workers compensation\, experience rating\, property insurance\, liability insurance and automobile insurance\, and provide methods to maximize reductions for each type.</p> <p><br /> Presented by: Anthony D. Bevilacqua\, CPCU\, President<br /> Anthony &amp\; Company<br /> &nbsp\;</p> <p>&nbsp\;</p> <p>&nbsp\;</p> <p>&nbsp\;</p> <p style="text-align: center"><em>BLSJ policy requires payment prior to the event or at the door.&nbsp\; <br /> All cancellations MUST BE given in writing at least 72 hours in advance or you will be billed.</em></p>
LOCATION:114 Haddontowne Court Cherry Hill\, NJ 08034
UID:e.9292.848
SEQUENCE:3
DTSTAMP:20260422T075250Z
URL:https://members.blsj.com/events/details/seminar-ten-ways-to-save-on-your-business-insurance-postponed-05-13-2009-848
END:VEVENT

END:VCALENDAR
