BEGIN:VCALENDAR
VERSION:2.0
PRODID:-//ChamberMaster//Event Calendar 2.0//EN
METHOD:PUBLISH
X-PUBLISHED-TTL:P3D
REFRESH-INTERVAL:P3D
CALSCALE:GREGORIAN
BEGIN:VEVENT
DTSTART:20060922T220000Z
DTEND:20060922T160000Z
X-MICROSOFT-CDO-ALLDAYEVENT:FALSE
SUMMARY:Seminar: Stormwater Pollution Prevention
DESCRIPTION:"Stormwater Pollution Prevention for Developers: \n An in depth look at implementation and how changing regulation and enforcement will impact the building industry" \n Overview of Federal\, State & Local approval matrices for stormwater permitting \n Outline of Construction Site Inspection guidelines published by EPA\, NJ\, and DE \n Assessment of current state of SWPP install and maintenance in NJ \n Open discussion on future changes to Best Management Practices for Developers to use - including cost v. benefit\, \n initial install and maintenance\, \n the benefits of "turn-key" stormwater management \n Predictions for the future of SWPP management and \n how to stay ahead of the regulatory curve \n \n Presented by: Shaun Herman\, M.S.\, All American Erosion Control and Stormwater Management.
X-ALT-DESC;FMTTYPE=text/html:<p align="center"><font style="FONT-SIZE: 14px"><font color="#ff0000"><strong>&quot\;Stormwater Pollution Prevention for Developers:</strong></font>&nbsp\;<br /> </font>An in depth look at implementation and how changing regulation and enforcement will impact the building industry&quot\;&nbsp\;<br /> Overview of Federal\, State &amp\; Local approval matrices for stormwater permitting&nbsp\;<br /> Outline of Construction Site Inspection guidelines published by EPA\, NJ\, and DE&nbsp\;<br /> Assessment of current state of SWPP install and maintenance in NJ&nbsp\;<br /> Open discussion on future changes to Best Management Practices for Developers to use - including cost v. benefit\,&nbsp\;<br /> initial install and maintenance\,&nbsp\;<br /> the benefits of &quot\;turn-key&quot\; stormwater management&nbsp\;<br /> Predictions for the future of SWPP management and&nbsp\;<br /> how to stay ahead of the regulatory curve&nbsp\;<br /> <br /> Presented by: Shaun Herman\, M.S.\, All American Erosion Control and Stormwater Management. </p>
LOCATION:Builders League Office 114 Haddontowne Ct Cherry Hill \, NJ 08034
UID:e.9292.1490
SEQUENCE:3
DTSTAMP:20260421T223049Z
URL:https://members.blsj.com/events/details/seminar-stormwater-pollution-prevention-09-22-2006-1490
END:VEVENT

END:VCALENDAR
