BEGIN:VCALENDAR
VERSION:2.0
PRODID:-//ChamberMaster//Event Calendar 2.0//EN
METHOD:PUBLISH
X-PUBLISHED-TTL:P3D
REFRESH-INTERVAL:P3D
CALSCALE:GREGORIAN
BEGIN:VEVENT
DTSTART:20060224T230000Z
DTEND:20060224T230000Z
X-MICROSOFT-CDO-ALLDAYEVENT:FALSE
SUMMARY:Seminar: STORMWATER COMPLIANCE OVERVIEW - 02/24/2006
DESCRIPTION:Introduction to Stormwater Management RECEIVE YOUR STORMWATER CERTIFICATE This class would cost thousands if taken elsewhere!   Seven Steps to Stormwater Compliance  The Five Deadly Sins   State Stormwater Regulations  How to handle Regulatory Stormwater Inspections  Well Testing & NJ Private Well Testing Act  Questions   Why you should attend:   Learn how to avoid stormwater fines and penalties (can result in jail or million dollar fines!)  http://www.epa.gov/compliance/resources/reports/endofyear/eoy2005/charts.ppt   Learn how to be in complete stormwater compliance with the EPA\, DEP & Local Soil Conservation District  Learn about the NJ Private Well Testing Act   Who should attend:   Home Building Executives and Project Managers  Commercial General Contractors  Land Developers & Landscape architects  Civil and Environmental Engineers  BMP Contractors and Distributors  Environmental Attorney's  Presented by: Sonny Soi\, and Craig Daniels\, NJ/NY/PA/DE Stormwater Consultant/Paradigm Engineering Mark Riether\, President\, South Jersey Water Test LLC
X-ALT-DESC;FMTTYPE=text/html:Introduction to Stormwater Management RECEIVE YOUR STORMWATER CERTIFICATE This class would cost thousands if taken elsewhere!   Seven Steps to Stormwater Compliance  The Five Deadly Sins   State Stormwater Regulations  How to handle Regulatory Stormwater Inspections  Well Testing & NJ Private Well Testing Act  Questions   Why you should attend:   Learn how to avoid stormwater fines and penalties (can result in jail or million dollar fines!)  http://www.epa.gov/compliance/resources/reports/endofyear/eoy2005/charts.ppt   Learn how to be in complete stormwater compliance with the EPA\, DEP & Local Soil Conservation District  Learn about the NJ Private Well Testing Act   Who should attend:   Home Building Executives and Project Managers  Commercial General Contractors  Land Developers & Landscape architects  Civil and Environmental Engineers  BMP Contractors and Distributors  Environmental Attorney's  Presented by: Sonny Soi\, and Craig Daniels\, NJ/NY/PA/DE Stormwater Consultant/Paradigm Engineering Mark Riether\, President\, South Jersey Water Test LLC 
LOCATION:Builders League Office Cherry Hill\, NJ 08034
UID:e.9292.1489
SEQUENCE:3
DTSTAMP:20260421T134720Z
URL:https://members.blsj.com/events/details/seminar-stormwater-compliance-overview-02-24-2006-02-24-2006-1489
END:VEVENT

END:VCALENDAR
