BEGIN:VCALENDAR
VERSION:2.0
PRODID:-//ChamberMaster//Event Calendar 2.0//EN
METHOD:PUBLISH
X-PUBLISHED-TTL:P3D
REFRESH-INTERVAL:P3D
CALSCALE:GREGORIAN
BEGIN:VEVENT
DTSTART:20070220T230000Z
DTEND:20070220T230000Z
X-MICROSOFT-CDO-ALLDAYEVENT:FALSE
SUMMARY:Seminar: STORMWATER COMPLIANCE OVERVIEW - 02/20/2007
DESCRIPTION:Outline: \n \n Learn how to avoid stormwater fines and penalties (can result in jail or million dollar fines!) \n http://www.epa.gov/compliance/resources/reports/endofyear/eoy2006/2006results.html \n Region 3 Numbers (PA\, DE\, DC\, MD\, VA\, WV) \n http://www.epa.gov/region03/enforcement/accomplishments06.htm\n Region 2 Numbers (NY\, NJ\, PR\, VI) \n http://www.epa.gov/region2/capp/results.htm \n \n Learn how to be in complete stormwater compliance with the EPA\, DEP & Local Soil Conservation District We'll go over: \n Current Enforcement Activity \n Seven Steps to Stormwater Compliance \n The Five Deadly Sins \n State Stormwater Regulations \n Thing to Look for on-site. \n \n Who should attend: Home Building Executives and Project Managers\, Commercial General Contractors\, Land Developers & Landscape architects. Civil and Environmental Engineers\, BMP Contractors and Distributors\, Environmental Attorney's\, etc. \n \n Presented by: Sonny Soi NJ/NY/PA/DE Senior Stormwater Consultant of Paradigm Engineering (www.Paradigm-Engineering.Com)
X-ALT-DESC;FMTTYPE=text/html:<p><font size="2">Outline:</font> <br /> <br /> <font face="sans-serif" size="2"><strong>Learn how to avoid stormwater fines and penalties (can result in jail or million dollar fines!) </strong></font><br /> <font face="sans-serif" size="2">http://www.epa.gov/compliance/resources/reports/endofyear/eoy2006/2006results.html</font> <br /> <font face="sans-serif" size="2">Region 3 Numbers (PA\, DE\, DC\, MD\, VA\, WV)</font> <br /> <font face="sans-serif" size="2">http://www.epa.gov/region03/enforcement/accomplishments06.htm<br /> Region 2 Numbers (NY\, NJ\, PR\, VI) <br /> http://www.epa.gov/region2/capp/results.htm</font> <br /> <br /> <font face="sans-serif" size="2"><strong>Learn how to be in complete stormwater compliance with the EPA\, DEP &amp\; Local Soil Conservation District We&rsquo\;ll go over:</strong></font> <br /> <font face="sans-serif" size="2">Current Enforcement Activity</font> <br /> <font face="sans-serif" size="2">Seven Steps to Stormwater Compliance </font><br /> <font face="sans-serif" size="2">The Five Deadly Sins </font><br /> <font face="sans-serif" size="2">State Stormwater Regulations </font><br /> <font face="sans-serif" size="2">Thing to Look for on-site.</font> <br /> <br /> <font face="sans-serif" size="2"><strong>Who should attend:</strong> Home Building Executives and Project Managers\, Commercial General Contractors\, Land Developers &amp\; Landscape architects. Civil and Environmental Engineers\, BMP Contractors and Distributors\, Environmental Attorney&rsquo\;s\, etc.</font> <br /> <br /> <font face="sans-serif" size="2"><strong>Presented by:</strong> Sonny Soi NJ/NY/PA/DE Senior Stormwater Consultant of Paradigm Engineering (www.Paradigm-Engineering.Com)</font> <br /> </p> <p>&nbsp\;</p> <p>&nbsp\;</p> <p>&nbsp\;</p> <p>&nbsp\;</p> <p>&nbsp\;</p>
LOCATION:Builders League Office Cherry Hill\, NJ 08034
UID:e.9292.1488
SEQUENCE:3
DTSTAMP:20260422T052803Z
URL:https://members.blsj.com/events/details/seminar-stormwater-compliance-overview-02-20-2007-02-20-2007-1488
END:VEVENT

END:VCALENDAR
