BEGIN:VCALENDAR
VERSION:2.0
PRODID:-//ChamberMaster//Event Calendar 2.0//EN
METHOD:PUBLISH
X-PUBLISHED-TTL:P3D
REFRESH-INTERVAL:P3D
CALSCALE:GREGORIAN
BEGIN:VEVENT
DTSTART:20060913T220000Z
DTEND:20060913T160000Z
X-MICROSOFT-CDO-ALLDAYEVENT:FALSE
SUMMARY:Seminar:Septic Systems & On-Site Wastewater Treatment Alternative
DESCRIPTION:"Everything you wanted to know about septic systems and onsite treatment"   Overview:   Septic System Design and Engineering Septic System Installation Septic System Inspection and Evaluation Septic System Maintenance and Maintenance Programs Septic System Remediation and Repair Advanced Treatment Equipment and Nitrogen Issues Community and Commercial Onsite Treatment Systems (NJPDES and Treatment Works Applications at the DEP) Presented by: Sandford Mersky\, South Jersey Engineers and Rick Ricciardi\, Marathon Consulting
X-ALT-DESC;FMTTYPE=text/html:"Everything you wanted to know about septic systems and onsite treatment"   Overview:   Septic System Design and Engineering Septic System Installation Septic System Inspection and Evaluation Septic System Maintenance and Maintenance Programs Septic System Remediation and Repair Advanced Treatment Equipment and Nitrogen Issues Community and Commercial Onsite Treatment Systems (NJPDES and Treatment Works Applications at the DEP) Presented by: Sandford Mersky\, South Jersey Engineers and Rick Ricciardi\, Marathon Consulting
LOCATION:\, NJ
UID:e.9292.1493
SEQUENCE:3
DTSTAMP:20260421T235515Z
URL:https://members.blsj.com/events/details/seminar-septic-systems-on-site-wastewater-treatment-alternative-09-13-2006-1493
END:VEVENT

END:VCALENDAR
