BEGIN:VCALENDAR
VERSION:2.0
PRODID:-//ChamberMaster//Event Calendar 2.0//EN
METHOD:PUBLISH
X-PUBLISHED-TTL:P3D
REFRESH-INTERVAL:P3D
CALSCALE:GREGORIAN
BEGIN:VEVENT
DTSTART:20060223T230000Z
DTEND:20060223T230000Z
X-MICROSOFT-CDO-ALLDAYEVENT:FALSE
SUMMARY:Seminar: "Selling to Builders for Dummies"
DESCRIPTION:Go right to the source! Find out these builder views on: how to entice what works when can you approach who you speak with in organization why your competition should be afraid   This seminar is for ALL trades and services who would like to increase their Builder business.   Moderator and Host Michael Kurpiel Market Development Manager Strober Building Supply
X-ALT-DESC;FMTTYPE=text/html:Go right to the source! Find out these builder views on: how to entice what works when can you approach who you speak with in organization why your competition should be afraid   This seminar is for ALL trades and services who would like to increase their Builder business.   Moderator and Host Michael Kurpiel Market Development Manager Strober Building Supply 
LOCATION:\, NJ
UID:e.9292.1372
SEQUENCE:3
DTSTAMP:20260421T123001Z
URL:https://members.blsj.com/events/details/seminar-selling-to-builders-for-dummies-02-23-2006-1372
END:VEVENT

END:VCALENDAR
