BEGIN:VCALENDAR
VERSION:2.0
PRODID:-//ChamberMaster//Event Calendar 2.0//EN
METHOD:PUBLISH
X-PUBLISHED-TTL:P3D
REFRESH-INTERVAL:P3D
CALSCALE:GREGORIAN
BEGIN:VEVENT
DTSTART:20061020T220000Z
DTEND:20061020T160000Z
X-MICROSOFT-CDO-ALLDAYEVENT:FALSE
SUMMARY:Seminar: "Pre-Cast Insulated Concrete Wall Building Systems"
DESCRIPTION:Using Superior Walls for your foundations            Advantages of using Superior Walls            Design and specification of Superior Walls            Typical installation procedures of Superior Walls     Speaker: Crosby Dougherty\, Vice President\, Superior Walls of New Jersey
X-ALT-DESC;FMTTYPE=text/html:<p align="center"><strong><span style="FONT-SIZE: 18pt\; FONT-FAMILY: Arial\; mso-bidi-font-size: 10.0pt">Using <st1:place w:st="on">Superior</st1:place> Walls for your foundations<u><o:p></o:p></u></span></strong></p> <p class="MsoHeader" style="MARGIN: 0in 0in 0pt\; tab-stops: .5in"><strong><u><span style="FONT-SIZE: 14pt\; FONT-FAMILY: Arial\; mso-bidi-font-size: 10.0pt"><o:p><span style="TEXT-DECORATION: none">&nbsp\;</span></o:p></span></u></strong></p> <p class="MsoHeader" style="MARGIN: 0in 0in 0pt 0.5in\; TEXT-INDENT: -0.25in\; tab-stops: list .5in\; mso-list: l0 level1 lfo1"><span style="FONT-SIZE: 14pt\; FONT-FAMILY: Symbol\; mso-bidi-font-size: 10.0pt\; mso-fareast-font-family: Symbol\; mso-bidi-font-family: Symbol"><span style="mso-list: Ignore">&middot\;<span style="FONT: 7pt &quot\;Times New Roman&quot\;">&nbsp\;&nbsp\;&nbsp\;&nbsp\;&nbsp\;&nbsp\;&nbsp\; </span></span></span><span style="FONT-SIZE: 14pt\; FONT-FAMILY: Arial\; mso-bidi-font-size: 10.0pt">Advantages of using Superior Walls<o:p></o:p></span></p> <p class="MsoHeader" style="MARGIN: 0in 0in 0pt\; TEXT-INDENT: 0.5in\; tab-stops: .5in"><span style="FONT-SIZE: 14pt\; FONT-FAMILY: Arial\; mso-bidi-font-size: 10.0pt"><o:p>&nbsp\;</o:p></span></p> <p class="MsoHeader" style="MARGIN: 0in 0in 0pt 0.5in\; TEXT-INDENT: -0.25in\; tab-stops: list .5in\; mso-list: l0 level1 lfo1"><span style="FONT-SIZE: 14pt\; FONT-FAMILY: Symbol\; mso-bidi-font-size: 10.0pt\; mso-fareast-font-family: Symbol\; mso-bidi-font-family: Symbol"><span style="mso-list: Ignore">&middot\;<span style="FONT: 7pt &quot\;Times New Roman&quot\;">&nbsp\;&nbsp\;&nbsp\;&nbsp\;&nbsp\;&nbsp\;&nbsp\; </span></span></span><span style="FONT-SIZE: 14pt\; FONT-FAMILY: Arial\; mso-bidi-font-size: 10.0pt">Design and specification of Superior Walls<o:p></o:p></span></p> <p class="MsoHeader" style="MARGIN: 0in 0in 0pt\; TEXT-INDENT: 0.5in\; tab-stops: .5in"><span style="FONT-SIZE: 14pt\; FONT-FAMILY: Arial\; mso-bidi-font-size: 10.0pt"><o:p>&nbsp\;</o:p></span></p> <p class="MsoHeader" style="MARGIN: 0in 0in 0pt 0.5in\; TEXT-INDENT: -0.25in\; tab-stops: list .5in\; mso-list: l0 level1 lfo1"><span style="FONT-SIZE: 14pt\; FONT-FAMILY: Symbol\; mso-bidi-font-size: 10.0pt\; mso-fareast-font-family: Symbol\; mso-bidi-font-family: Symbol"><span style="mso-list: Ignore">&middot\;<span style="FONT: 7pt &quot\;Times New Roman&quot\;">&nbsp\;&nbsp\;&nbsp\;&nbsp\;&nbsp\;&nbsp\;&nbsp\; </span></span></span><span style="FONT-SIZE: 14pt\; FONT-FAMILY: Arial\; mso-bidi-font-size: 10.0pt">Typical installation procedures of Superior Walls<o:p></o:p></span></p> <p class="MsoHeader" style="MARGIN: 0in 0in 0pt\; tab-stops: .5in"><span style="FONT-SIZE: 14pt\; FONT-FAMILY: Arial\; mso-bidi-font-size: 10.0pt"><o:p>&nbsp\;</o:p></span></p> <p>&nbsp\;</p> <p>Speaker: Crosby Dougherty\, Vice President\, Superior Walls of New Jersey </p> <p>&nbsp\;</p>
LOCATION:Builders League Cherry Hill\, NJ 08034
UID:e.9292.1550
SEQUENCE:3
DTSTAMP:20260421T235449Z
URL:https://members.blsj.com/events/details/seminar-pre-cast-insulated-concrete-wall-building-systems-10-20-2006-1550
END:VEVENT

END:VCALENDAR
