BEGIN:VCALENDAR
VERSION:2.0
PRODID:-//ChamberMaster//Event Calendar 2.0//EN
METHOD:PUBLISH
X-PUBLISHED-TTL:P3D
REFRESH-INTERVAL:P3D
CALSCALE:GREGORIAN
BEGIN:VEVENT
DTSTART:20050223T230000Z
DTEND:20050223T170000Z
X-MICROSOFT-CDO-ALLDAYEVENT:FALSE
SUMMARY:Seminar - Paperless Glass Mat Technology vs. Conventional Drywall
DESCRIPTION:This is an interactive\, multimedia  presentation explains the relationship between mold growth\, moisture and organic materials. Simple devices and charts are used to point out that even moisture in the air\, if mismanaged could be the culprit. Since\, better indoor air quality has become a construction industry focal point\, selection of the correct material will protect the buillder's reputation as well as the home buyers investment. Attendees will learn simple moisture management techniques and how to specify materials for lowering mold growth potential and the choice of the right building materials as a means to "protect what you creat" is emphasized.
X-ALT-DESC;FMTTYPE=text/html:This is an interactive\, multimedia  presentation explains the relationship between mold growth\, moisture and organic materials. Simple devices and charts are used to point out that even moisture in the air\, if mismanaged could be the culprit. Since\, better indoor air quality has become a construction industry focal point\, selection of the correct material will protect the buillder's reputation as well as the home buyers investment. Attendees will learn simple moisture management techniques and how to specify materials for lowering mold growth potential and the choice of the right building materials as a means to "protect what you creat" is emphasized.  
LOCATION:Builders League Office Cherry Hill\, NJ 08034
UID:e.9292.1230
SEQUENCE:3
DTSTAMP:20260420T210523Z
URL:https://members.blsj.com/events/details/seminar-paperless-glass-mat-technology-vs-conventional-drywall-02-23-2005-1230
END:VEVENT

END:VCALENDAR
