BEGIN:VCALENDAR
VERSION:2.0
PRODID:-//ChamberMaster//Event Calendar 2.0//EN
METHOD:PUBLISH
X-PUBLISHED-TTL:P3D
REFRESH-INTERVAL:P3D
CALSCALE:GREGORIAN
BEGIN:VEVENT
DTSTART:20050517T160000Z
DTEND:20050517T160000Z
X-MICROSOFT-CDO-ALLDAYEVENT:FALSE
SUMMARY:Seminar: NJ Concrete & Aggregate Assoc - Concrete Technology Clas
DESCRIPTION:Half day seminar conducted by the new Jersey Concrete   pervious concrete\; mixtures\; pouring\;finishing\; correct   pro's and con's of fibermesh\; discoloration issues and strength testing. Who should attend: builders\, remodelers\, contractors\, architects\, specifiers\, building owners and all others seeking the most up to date information on concrete applications. Speaker: Mike Genoso\, NJ Concrete & Aggregate Assoc
X-ALT-DESC;FMTTYPE=text/html:Half day seminar conducted by the new Jersey Concrete & Aggregate Association.    Learn the proper techiques for hot/cold installation\; pervious concrete\; mixtures\; pouring\;finishing\; correct & incorrect expansion and contraction joint techniques\; pro's and con's of fibermesh\; discoloration issues and strength testing. Who should attend: builders\, remodelers\, contractors\, architects\, specifiers\, building owners and all others seeking the most up to date information on concrete applications. Speaker: Mike Genoso\, NJ Concrete & Aggregate Assoc 
LOCATION:Builders League of South Jersey 114 Haddontowne Ct Cherry Hill\, NJ 08034
UID:e.9292.1240
SEQUENCE:3
DTSTAMP:20260421T004836Z
URL:https://members.blsj.com/events/details/seminar-nj-concrete-aggregate-assoc-concrete-technology-clas-05-17-2005-1240
END:VEVENT

END:VCALENDAR
