BEGIN:VCALENDAR
VERSION:2.0
PRODID:-//ChamberMaster//Event Calendar 2.0//EN
METHOD:PUBLISH
X-PUBLISHED-TTL:P3D
REFRESH-INTERVAL:P3D
CALSCALE:GREGORIAN
BEGIN:VEVENT
DTSTART:20060322T230000Z
DTEND:20060322T170000Z
X-MICROSOFT-CDO-ALLDAYEVENT:FALSE
SUMMARY:Seminar: Mold & Mildew - Everything You Always Wanted to Know
DESCRIPTION:The American Institute of Architects Continuing Education System Credits:   1.0 LU Hours     HSW:    YES  Description: An open discussion of construction scheduling\, material storage\, proper detailing\, vapor migration\, building maintenance and preparation for building occupancy.  Learning Objectives:    At the end of this program the participants will be able to:  Better understand the tradeoffs of material selection and the positive and negative effects of improper scheduling of construction and material storage as well as to the basics of vapor migration and proper preparation of the structure prior to occupancy.  Target Audience:  Architects\, engineers\, specifiers\, owners\, and other design professional in the industrial/educational/commercial market.   Presenters: John Johnson\, US Gypsum & Joel Hubbard
X-ALT-DESC;FMTTYPE=text/html:The American Institute of Architects Continuing Education System Credits:   1.0 LU Hours     HSW:    YES  Description: An open discussion of construction scheduling\, material storage\, proper detailing\, vapor migration\, building maintenance and preparation for building occupancy.  Learning Objectives:    At the end of this program the participants will be able to:  Better understand the tradeoffs of material selection and the positive and negative effects of improper scheduling of construction and material storage as well as to the basics of vapor migration and proper preparation of the structure prior to occupancy.  Target Audience:  Architects\, engineers\, specifiers\, owners\, and other design professional in the industrial/educational/commercial market.   Presenters: John Johnson\, US Gypsum & Joel Hubbard
LOCATION:Builders League Cherry Hill\, NJ 08003
UID:e.9292.843
SEQUENCE:3
DTSTAMP:20260421T134714Z
URL:https://members.blsj.com/events/details/seminar-mold-mildew-everything-you-always-wanted-to-know-03-22-2006-843
END:VEVENT

END:VCALENDAR
