BEGIN:VCALENDAR
VERSION:2.0
PRODID:-//ChamberMaster//Event Calendar 2.0//EN
METHOD:PUBLISH
X-PUBLISHED-TTL:P3D
REFRESH-INTERVAL:P3D
CALSCALE:GREGORIAN
BEGIN:VEVENT
DTSTART:20070427T220000Z
DTEND:20070427T160000Z
X-MICROSOFT-CDO-ALLDAYEVENT:FALSE
SUMMARY:Seminar: Mold & Mildew
DESCRIPTION:What is Mold  -     Why has mold become such an issue -     How do you control mold      -     The USG stance on the mold issue   An open discussion of construction scheduling\, material storage\, proper detailing\, vapor migration\, building maintenance and preparation for building occupancy.   At the end of this program the participants will be able to: Better understand the tradeoffs of material selection and the positive and negative effects of improper scheduling of construction and material storage as well as to the basics of vapor migration and proper preparation of the structure prior to occupancy.   Credits:         1.0 LU Hours             HSW:             YES   Who should attend: Architects\, engineers\, specifiers\, owners\, and other design professional in the industrial/educational/commercial market.     Presented by: Joel L. Hubbard\, Associate AIA\, CSI    Architectural Services - Philadelphia                          USG Building Systems
X-ALT-DESC;FMTTYPE=text/html:&nbsp\;&nbsp\;&nbsp\;&nbsp\;&nbsp\;&nbsp\;&nbsp\;&nbsp\;&nbsp\;&nbsp\;&nbsp\;&nbsp\;&nbsp\;&nbsp\;&nbsp\;&nbsp\;&nbsp\;&nbsp\;&nbsp\;&nbsp\;&nbsp\;&nbsp\;&nbsp\;&nbsp\;&nbsp\;&nbsp\;&nbsp\;&nbsp\;&nbsp\;&nbsp\;&nbsp\;&nbsp\;&nbsp\;&nbsp\;&nbsp\;&nbsp\;&nbsp\;&nbsp\;&nbsp\;&nbsp\;&nbsp\;&nbsp\;&nbsp\;&nbsp\;&nbsp\;&nbsp\;&nbsp\;&nbsp\;&nbsp\;&nbsp\;&nbsp\;&nbsp\;&nbsp\;&nbsp\;&nbsp\;&nbsp\;&nbsp\;&nbsp\;&nbsp\;&nbsp\;&nbsp\;&nbsp\;&nbsp\;&nbsp\;&nbsp\;&nbsp\;&nbsp\;&nbsp\;&nbsp\;&nbsp\;&nbsp\;&nbsp\;&nbsp\;&nbsp\;&nbsp\;&nbsp\;&nbsp\;&nbsp\;&nbsp\;&nbsp\;&nbsp\;&nbsp\;&nbsp\; What is Mold <div></div> <div style="MARGIN: 0in 0in 0pt" align="center"><span style="text-shadow: auto">-&nbsp\;&nbsp\;&nbsp\;&nbsp\; Why has mold become such an issue</span></div> <div style="MARGIN: 0in 0in 0pt" align="center"><span style="text-shadow: auto">-&nbsp\;&nbsp\;&nbsp\;&nbsp\; How do you control mold</span></div> <div style="MARGIN: 0in 0in 0pt" align="center"><span style="TEXT-DECORATION: none\; text-shadow: auto\; text-underline: none">&nbsp\;&nbsp\;&nbsp\;&nbsp\; -&nbsp\;&nbsp\;&nbsp\;&nbsp\; The USG stance on the mold issue</span></div> <div style="MARGIN: 0in 0in 0pt">&nbsp\;</div> <div style="MARGIN: 0in 0in 0pt" align="center"><span style="COLOR: black\; TEXT-DECORATION: none\; text-shadow: auto\; text-underline: none">An open discussion of construction scheduling\, material storage\, proper detailing\, vapor migration\, building maintenance and preparation for building occupancy.</span></div> <div style="MARGIN: 0in 0in 0pt"><strong>&nbsp\;</strong></div> <div style="MARGIN: 0in 0in 0pt\; TEXT-ALIGN: center\; punctuation-wrap: simple" align="center"><span style="COLOR: black\; text-shadow: auto">At the end of this program the participants will be able to:</span></div> <div style="MARGIN: 0in 0in 0pt\; TEXT-ALIGN: center\; punctuation-wrap: simple" align="center"><span style="COLOR: black\; text-shadow: auto">Better understand the tradeoffs of material selection and the positive and negative effects of improper scheduling of construction and material storage as well as to the basics of vapor migration and proper preparation of the structure prior to occupancy.</span></div> <div style="MARGIN: 0in 0in 0pt\; TEXT-ALIGN: center\; punctuation-wrap: simple" align="center">&nbsp\;</div> <div style="MARGIN: 0in 0in 0pt\; TEXT-ALIGN: center\; punctuation-wrap: simple" align="center"><span>Credits:&nbsp\;&nbsp\;&nbsp\;&nbsp\;&nbsp\;&nbsp\;&nbsp\;&nbsp\; 1.0 LU Hours </span><span style="COLOR: black\; text-shadow: auto">&nbsp\;&nbsp\;&nbsp\;&nbsp\;&nbsp\;&nbsp\;&nbsp\;&nbsp\;&nbsp\;&nbsp\;&nbsp\; HSW: &nbsp\;&nbsp\;&nbsp\;&nbsp\;&nbsp\;&nbsp\;&nbsp\;&nbsp\;&nbsp\;&nbsp\;&nbsp\; YES</span></div> <div style="MARGIN: 0in 0in 0pt\; TEXT-ALIGN: center\; punctuation-wrap: simple" align="center">&nbsp\;</div> <div style="MARGIN: 0in 0in 0pt\; TEXT-ALIGN: center\; punctuation-wrap: simple" align="center"><span style="COLOR: black\; text-shadow: auto">Who should attend:</span></div> <div style="MARGIN: 0in 0in 0pt\; TEXT-ALIGN: center\; punctuation-wrap: simple" align="center"><span style="COLOR: black\; text-shadow: auto">Architects\, engineers\, specifiers\, owners\, and other design professional in the industrial/educational/commercial market.</span></div> <div style="MARGIN: 0in 0in 0pt"><strong>&nbsp\;</strong></div> <div style="MARGIN: 0in 0in 0pt">&nbsp\;</div> <div style="MARGIN: 0in 0in 0pt"><span style="text-shadow: auto">Presented by: Joel L. Hubbard\, Associate AIA\, CSI</span></div> <div style="MARGIN: 0in 0in 0pt 0.5in\; TEXT-INDENT: 0.5in"><span style="text-shadow: auto">&nbsp\;&nbsp\; Architectural Services - Philadelphia</span></div> <div style="MARGIN: 0in 0in 0pt"><span style="text-shadow: auto">&nbsp\;&nbsp\; &nbsp\;&nbsp\;&nbsp\;&nbsp\;&nbsp\;&nbsp\;&nbsp\;&nbsp\;&nbsp\;&nbsp\;&nbsp\;&nbsp\;&nbsp\;&nbsp\;&nbsp\;&nbsp\;&nbsp\;&nbsp\;&nbsp\;&nbsp\;&nbsp\;&nbsp\;USG Building Systems</span></div>
LOCATION:Builders League Cherry Hill\, NJ 08034
UID:e.9292.1478
SEQUENCE:3
DTSTAMP:20260422T074656Z
URL:https://members.blsj.com/events/details/seminar-mold-mildew-04-27-2007-1478
END:VEVENT

END:VCALENDAR
