BEGIN:VCALENDAR
VERSION:2.0
PRODID:-//ChamberMaster//Event Calendar 2.0//EN
METHOD:PUBLISH
X-PUBLISHED-TTL:P3D
REFRESH-INTERVAL:P3D
CALSCALE:GREGORIAN
BEGIN:VEVENT
DTSTART:20050127T230000Z
DTEND:20050127T170000Z
X-MICROSOFT-CDO-ALLDAYEVENT:FALSE
SUMMARY:Seminar Mold Control:How To Identify\,Prevent\, Remediate And Defen
DESCRIPTION:Why You Should Attend:  This program has been designed to provide a detailed understanding of the critical issues the real estate industry and others face in the emerging problems surrounding the presence of mold in commercial and residential buildings.   What You Will Learn:  How to Investigate and Identify Mold  Prevention and Remediation of Mold During New Construction  Step-by-Step Approach to Correcting Mold Problems  How to Assure a Successful Mold Cleanup -- Inspection\, Testing\, and Documentation  Tips to Prevent Mold After the Sale  How to Effectively Address Legal Issues  Development of Law in New Jersey and Other States  Overview of Mold Cases Related to Residential\, Commercial\, and Public Buildings  Impact on the Banking\, Real Estate\, and Construction Industries  Steps to Avoid Mold-Related Claims and Liability  Defending Mold Claims  Insurance Coverage Issues Under Homeowners\, CGL\, and Business Policies  Dealing With Different Types of Exclusion Clauses in Insurance Policies  Understanding Different Types of Mold Claims Asserted by Plaintiffs  How to Successfully Defend Mold Claims
X-ALT-DESC;FMTTYPE=text/html:Why You Should Attend:  This program has been designed to provide a detailed understanding of the critical issues the real estate industry and others face in the emerging problems surrounding the presence of mold in commercial and residential buildings.   What You Will Learn:  How to Investigate and Identify Mold  Prevention and Remediation of Mold During New Construction  Step-by-Step Approach to Correcting Mold Problems  How to Assure a Successful Mold Cleanup -- Inspection\, Testing\, and Documentation  Tips to Prevent Mold After the Sale  How to Effectively Address Legal Issues  Development of Law in New Jersey and Other States  Overview of Mold Cases Related to Residential\, Commercial\, and Public Buildings  Impact on the Banking\, Real Estate\, and Construction Industries  Steps to Avoid Mold-Related Claims and Liability  Defending Mold Claims  Insurance Coverage Issues Under Homeowners\, CGL\, and Business Policies  Dealing With Different Types of Exclusion Clauses in Insurance Policies  Understanding Different Types of Mold Claims Asserted by Plaintiffs  How to Successfully Defend Mold Claims  
LOCATION:Builders League Office Cherry Hill\, NJ 08034
UID:e.9292.568
SEQUENCE:3
DTSTAMP:20260420T200037Z
URL:https://members.blsj.com/events/details/seminar-mold-control-how-to-identify-prevent-remediate-and-defen-01-27-2005-568
END:VEVENT

END:VCALENDAR
