BEGIN:VCALENDAR
VERSION:2.0
PRODID:-//ChamberMaster//Event Calendar 2.0//EN
METHOD:PUBLISH
X-PUBLISHED-TTL:P3D
REFRESH-INTERVAL:P3D
CALSCALE:GREGORIAN
BEGIN:VEVENT
DTSTART:20090730T220000Z
DTEND:20090730T160000Z
X-MICROSOFT-CDO-ALLDAYEVENT:FALSE
SUMMARY:Seminar: Maximize ROI from Google AdWords (Pay Per Click Advertising)
DESCRIPTION:Maximize ROI from Google AdWords (Pay Per Click Advertising)\n \n Miles Technologies Shows You How.\n \n About the Seminar\n As more and more businesses turn to Pay Per Click (PPC) Marketing to promote themselves online\, competition becomes fierce and costs skyrocket. Think you have no choice but to increase your budget and pay through the nose for a click? You don't have to! \n This educational seminar will provide detailed insight into creating effective PPC campaigns that give you more leads for less expense. We provide a comprehensive overview of PPC best practices and provide practical instructions into how any company can maximize their ROI from PPC advertising. Business owners will leave the seminar armed with the tools necessary to implement a winning pay per click campaign. \n How Will You Benefit?\n Cut down on your advertising spending and put more money back where it belongs- in your wallet. In our instructional seminar\, we will go over the different ways to optimize your PPC campaign to increase leads while decreasing ad spend. Topics will include:\n   Campaign Settings   Use of Content Network\n   Geographic Targeting   Placement Targeting\n   Ad Group Separation   Landing Pages\n   Keyword Research   Using Reports\n   Keyword Matching Options   Conversion Tracking\n   Budgets   Conversion Metrics \n   Ad Copy   Using Analytics\n \n Learn From the Best\n Miles Technologies' team of dedicated online marketing specialists has extensive experience and numerous certifications including:\n   Google AdWords Certified\n   Google Analytics Certified\n   Search Engine College Certified Search Engine Marketers\n We have the expertise to guide you to success!
X-ALT-DESC;FMTTYPE=text/html:<p style="text-align: center"><span style="font-size: small">Maximize ROI from Google AdWords (Pay Per Click Advertising)<br /> </span><br /> Miles Technologies Shows You How.<br /> <br /> <strong>About the Seminar</strong><br /> As more and more businesses turn to Pay Per Click (PPC) Marketing to promote themselves online\, competition becomes fierce and costs skyrocket. Think you have no choice but to increase your budget and pay through the nose for a click? You don&rsquo\;t have to! <br /> This educational seminar will provide detailed insight into creating effective PPC campaigns that give you more leads for less expense. We provide a comprehensive overview of PPC best practices and provide practical instructions into how any company can maximize their ROI from PPC advertising. Business owners will leave the seminar armed with the tools necessary to implement a winning pay per click campaign. <br /> <strong>How Will You Benefit?</strong><br /> Cut down on your advertising spending and put more money back where it belongs- in your wallet. In our instructional seminar\, we will go over the different ways to optimize your PPC campaign to increase leads while decreasing ad spend. Topics will include:<br /> &bull\; Campaign Settings &bull\; Use of Content Network<br /> &bull\; Geographic Targeting &bull\; Placement Targeting<br /> &bull\; Ad Group Separation &bull\; Landing Pages<br /> &bull\; Keyword Research &bull\; Using Reports<br /> &bull\; Keyword Matching Options &bull\; Conversion Tracking<br /> &bull\; Budgets &bull\; Conversion Metrics <br /> &bull\; Ad Copy &bull\; Using Analytics<br /> <br /> <strong>Learn From the Best</strong><br /> Miles Technologies&rsquo\; team of dedicated online marketing specialists has extensive experience and numerous certifications including:<br /> &bull\; Google AdWords Certified<br /> &bull\; Google Analytics Certified<br /> &bull\; Search Engine College Certified Search Engine Marketers<br /> We have the expertise to guide you to success!<br /> &nbsp\;</p>
LOCATION:114 Haddontowne Court Cherry Hill\, NJ 08034
UID:e.9292.1394
SEQUENCE:3
DTSTAMP:20260422T052613Z
URL:https://members.blsj.com/events/details/seminar-maximize-roi-from-google-adwords-pay-per-click-advertising-07-30-2009-1394
END:VEVENT

END:VCALENDAR
