BEGIN:VCALENDAR
VERSION:2.0
PRODID:-//ChamberMaster//Event Calendar 2.0//EN
METHOD:PUBLISH
X-PUBLISHED-TTL:P3D
REFRESH-INTERVAL:P3D
CALSCALE:GREGORIAN
BEGIN:VEVENT
DTSTART:20090507T220000Z
DTEND:20090507T160000Z
X-MICROSOFT-CDO-ALLDAYEVENT:FALSE
SUMMARY:Seminar: Managing Moisture and Solving Water Intrusion Problems in Residential Buildings
DESCRIPTION:Breakfast Seminar: \n Managing Moisture and Solving Water Intrusion Problems in Residential Buildings\n  A study of the necessity for building redundancy in residential building envelopes (wall systems) \n to help avoid damage due to water intrusion. \n Program will include an interactive expert panel discussion \n about best practices and products that can work together to defeat moisture issues.\n \n Who Should Attend:\n Builders * Remodelers * Architects * Framers\n Siding Installers * Code Officials * Window Installers * \n Stucco Installers * Building Product Suppliers\n \n Get Answers to these Questions & More:      How do I design durable wall systems to prevent damage due to water and air infiltration?     What is the importance of building redundancy in moisture control?     What methods are currently available for protecting the building envelope?     What are the proper installation methods for window flashing & stucco?  \n Course Instructor(s):\n Mitch Lauver\, DuPont Tyvek Building Products Specialist\, Parksite\n Jim Pease\, PAREX\n Bob Meimbresse\, Anderson Windows BLSJ policy requires payment prior to the event or at the door.  \n All cancellations MUST BE given in writing at least 72 hours in advance or you will be billed.
X-ALT-DESC;FMTTYPE=text/html:<p style="text-align: center"><strong><span style="color: #ff0000"><span style="font-size: small">Breakfast Seminar: <br /> Managing Moisture and Solving Water Intrusion Problems in Residential Buildings<br /> </span></span></strong></p> <p style="text-align: center"><span style="font-size: small"><span style="font-size: x-small">A study of the necessity for building redundancy in residential building envelopes (wall systems) <br /> to help avoid damage due to water intrusion. <br /> Program will include an interactive expert panel discussion <br /> about best practices and products that can work together to defeat moisture issues.<br /> <br /> <strong>Who Should Attend:</strong><br /> Builders * Remodelers * Architects * Framers<br /> Siding Installers * Code Officials * Window Installers * <br /> Stucco Installers * Building Product Suppliers<br /> </span></span><br /> Get Answers to these Questions &amp\; More:</p> <ul>     <li>How do I design durable wall systems to prevent damage due to water and air infiltration?</li>     <li>What is the importance of building redundancy in moisture control?</li>     <li>What methods are currently available for protecting the building envelope?</li>     <li>What are the proper installation methods for window flashing &amp\; stucco?</li> </ul> <p><br /> Course Instructor(s):<br /> Mitch Lauver\, DuPont Tyvek Building Products Specialist\, <em>Parksite<br /> </em>Jim Pease\, PAREX<br /> Bob Meimbresse\, Anderson Windows</p> <p style="text-align: center"><em>BLSJ policy requires payment prior to the event or at the door.&nbsp\; <br /> All cancellations MUST BE given in writing at least 72 hours in advance or you will be billed.</em></p>
LOCATION:114 Haddontowne Court Cherry Hill\, NJ 08034
UID:e.9292.1477
SEQUENCE:3
DTSTAMP:20260422T075857Z
URL:https://members.blsj.com/events/details/seminar-managing-moisture-and-solving-water-intrusion-problems-in-residential-buildings-05-07-2009-1477
END:VEVENT

END:VCALENDAR
