BEGIN:VCALENDAR
VERSION:2.0
PRODID:-//ChamberMaster//Event Calendar 2.0//EN
METHOD:PUBLISH
X-PUBLISHED-TTL:P3D
REFRESH-INTERVAL:P3D
CALSCALE:GREGORIAN
BEGIN:VEVENT
DTSTART:20070411T220000Z
DTEND:20070411T220000Z
X-MICROSOFT-CDO-ALLDAYEVENT:FALSE
SUMMARY:Seminar: Long Term Interest Rate Protection
DESCRIPTION:Long Term Interest Rate Protection      How this program will help you sell more homes ?      How this program will help you retain buyers after the contract is signed ?      What is considered Long Term Rate Protection ?      How does it work ?      What is the cost ?      Who typically pays for this ?      Is it refundable ?      If so\, under what conditions ?      Is it available for primary\, second or vacation homes and investment properties ?      Is it available to single family\, 2 to 4 family and condos ?      Is it available to builders that are building multi-projects and in multi-states ?      Can I use it one property at a time or do I have to purchase a block of money ?      How can I participate in the FAMC 24 Month Rate Protection Program ?   Presented by Ron Agasar\, Franklin American Mortgage
X-ALT-DESC;FMTTYPE=text/html:<div style="MARGIN: 0in 0in 0pt"><span style="FONT-SIZE: 18pt\; TEXT-DECORATION: none\; text-underline: none\; text-shadow: auto">&nbsp\;Long Term Interest Rate Protection</span></div> <ul style="MARGIN-TOP: 0in" type="disc">     <li style="MARGIN: 0in 0in 0pt"><span style="FONT-SIZE: 11pt">How this program will help you sell more homes ?</span> </li>     <li style="MARGIN: 0in 0in 0pt"><span style="FONT-SIZE: 11pt">How this program will help you retain buyers after the contract is signed ?</span> </li>     <li style="MARGIN: 0in 0in 0pt"><span style="FONT-SIZE: 11pt">What is considered Long Term Rate Protection ?</span> </li>     <li style="MARGIN: 0in 0in 0pt"><span style="FONT-SIZE: 11pt">How does it work ?</span> </li>     <li style="MARGIN: 0in 0in 0pt"><span style="FONT-SIZE: 11pt">What is the cost ?</span> </li>     <li style="MARGIN: 0in 0in 0pt"><span style="FONT-SIZE: 11pt">Who typically pays for this ?</span> </li>     <li style="MARGIN: 0in 0in 0pt"><span style="FONT-SIZE: 11pt">Is it refundable ?</span> </li>     <li style="MARGIN: 0in 0in 0pt"><span style="FONT-SIZE: 11pt">If so\, under what conditions ?</span> </li>     <li style="MARGIN: 0in 0in 0pt"><span style="FONT-SIZE: 11pt">Is it available for primary\, second or vacation homes and investment properties ?</span> </li>     <li style="MARGIN: 0in 0in 0pt"><span style="FONT-SIZE: 11pt">Is it available to single family\, 2 to 4 family and condos ?</span> </li>     <li style="MARGIN: 0in 0in 0pt"><span style="FONT-SIZE: 11pt">Is it available to builders that are building multi-projects and in multi-states ?</span> </li>     <li style="MARGIN: 0in 0in 0pt"><span style="FONT-SIZE: 11pt">Can I use it one property at a time or do I have to purchase a block of money ?</span> </li>     <li style="MARGIN: 0in 0in 0pt"><span style="FONT-SIZE: 11pt">How can I participate in the FAMC 24 Month Rate Protection Program ?</span> </li> </ul> <p>Presented by Ron Agasar\, Franklin American Mortgage </p>
LOCATION:Builders League Cherry Hill\, NJ 08034
UID:e.9292.1565
SEQUENCE:3
DTSTAMP:20260422T074823Z
URL:https://members.blsj.com/events/details/seminar-long-term-interest-rate-protection-04-11-2007-1565
END:VEVENT

END:VCALENDAR
