BEGIN:VCALENDAR
VERSION:2.0
PRODID:-//ChamberMaster//Event Calendar 2.0//EN
METHOD:PUBLISH
X-PUBLISHED-TTL:P3D
REFRESH-INTERVAL:P3D
CALSCALE:GREGORIAN
BEGIN:VEVENT
DTSTART:20050422T220000Z
DTEND:20050422T220000Z
X-MICROSOFT-CDO-ALLDAYEVENT:FALSE
SUMMARY:Seminar: Living Safely In a Dangerous World - 04/22/2005
DESCRIPTION:Living Safely In a Dangerous World...Crime Prevention\, Personal Safety and Violence in the Workplace Customized for the Real Estate Industry... This seminar emphasizes how NOT to become a victim of crime as well as techniques for what to do if you are in a crime situation. This seminar addresses the specifics of protecting yourself in the following situations: Showing Properties Alone Night Phone Duty Open Houses Working With Strangers Home & Street Safety Car Jacking  Speaker: Charles (Gary)Denny\, President & CEO\, Infinity Worldwide Training
X-ALT-DESC;FMTTYPE=text/html:Living Safely In a Dangerous World...Crime Prevention\, Personal Safety and Violence in the Workplace Customized for the Real Estate Industry... This seminar emphasizes how NOT to become a victim of crime as well as techniques for what to do if you are in a crime situation. This seminar addresses the specifics of protecting yourself in the following situations: Showing Properties Alone Night Phone Duty Open Houses Working With Strangers Home & Street Safety Car Jacking  Speaker: Charles (Gary)Denny\, President & CEO\, Infinity Worldwide Training
LOCATION:Builders League of South Jersey 114 Haddontowne Ct Cherry Hill\, NJ 08034
UID:e.9292.704
SEQUENCE:3
DTSTAMP:20260420T233944Z
URL:https://members.blsj.com/events/details/seminar-living-safely-in-a-dangerous-world-04-22-2005-04-22-2005-704
END:VEVENT

END:VCALENDAR
