BEGIN:VCALENDAR
VERSION:2.0
PRODID:-//ChamberMaster//Event Calendar 2.0//EN
METHOD:PUBLISH
X-PUBLISHED-TTL:P3D
REFRESH-INTERVAL:P3D
CALSCALE:GREGORIAN
BEGIN:VEVENT
DTSTART:20051027T220000Z
DTEND:20051027T160000Z
X-MICROSOFT-CDO-ALLDAYEVENT:FALSE
SUMMARY:Seminar: "How to Take the Fear out of the Closing"-CANCELED
DESCRIPTION:This seminar is a courtesy of the Associates Committee and is being presented by: Patrick J. Brennan\, President of Southern Counties Title Agency  Are you afraid of the Settlement Statement? Does the thought of going to a closing make you nervous? Why do the closings take so long?  If you have asked yourself these questions\, join us on October 27th\, 2005 at the BLSJ Office    "TAKING THE FEAR OUT OF THE CLOSING"  Learn How to Read a Settlement Statement\, Review the Mortgage Instructions\, Why they are so Important and How to Overcome Problems that Arise at the Closing Table...and much more...
X-ALT-DESC;FMTTYPE=text/html:This seminar is a courtesy of the Associates Committee and is being presented by: Patrick J. Brennan\, President of Southern Counties Title Agency  Are you afraid of the Settlement Statement? Does the thought of going to a closing make you nervous? Why do the closings take so long?  If you have asked yourself these questions\, join us on October 27th\, 2005 at the BLSJ Office    "TAKING THE FEAR OUT OF THE CLOSING"  Learn How to Read a Settlement Statement\, Review the Mortgage Instructions\, Why they are so Important and How to Overcome Problems that Arise at the Closing Table...and much more...   
LOCATION:Builders League of South Jersey 114 Haddontowne Ct Cherry Hill\, NJ 08034
UID:e.9292.1549
SEQUENCE:3
DTSTAMP:20260421T071212Z
URL:https://members.blsj.com/events/details/seminar-how-to-take-the-fear-out-of-the-closing-canceled-10-27-2005-1549
END:VEVENT

END:VCALENDAR
