BEGIN:VCALENDAR
VERSION:2.0
PRODID:-//ChamberMaster//Event Calendar 2.0//EN
METHOD:PUBLISH
X-PUBLISHED-TTL:P3D
REFRESH-INTERVAL:P3D
CALSCALE:GREGORIAN
BEGIN:VEVENT
DTSTART:20050512T220000Z
DTEND:20050512T220000Z
X-MICROSOFT-CDO-ALLDAYEVENT:FALSE
SUMMARY:Seminar: How to Network & Build Your Business Through the BLSJ
DESCRIPTION:Networking Principles that will help you ...whether you are a new member or a long time member you can never know enough about networking and how to make your membership pay for itself. This informative seminar will give you insight into the ins and outs of the Association\, how to effectively make those important contacts and how to get a jump on networking. This is a not to be missed seminar.  Speaker: Michael Kurpiel\, Marketing Director-Strober Haddonfield Group\, NJBA Immediate Past Associate VP\, BLSJ VP of Associate Affairs
X-ALT-DESC;FMTTYPE=text/html:Networking Principles that will help you ...whether you are a new member or a long time member you can never know enough about networking and how to make your membership pay for itself. This informative seminar will give you insight into the ins and outs of the Association\, how to effectively make those important contacts and how to get a jump on networking. This is a not to be missed seminar.  Speaker: Michael Kurpiel\, Marketing Director-Strober Haddonfield Group\, NJBA Immediate Past Associate VP\, BLSJ VP of Associate Affairs
LOCATION:Builders League of South Jersey 114 Haddontowne Ct Cherry Hill\, NJ 08034
UID:e.9292.1463
SEQUENCE:3
DTSTAMP:20260421T005107Z
URL:https://members.blsj.com/events/details/seminar-how-to-network-build-your-business-through-the-blsj-05-12-2005-1463
END:VEVENT

END:VCALENDAR
