BEGIN:VCALENDAR
VERSION:2.0
PRODID:-//ChamberMaster//Event Calendar 2.0//EN
METHOD:PUBLISH
X-PUBLISHED-TTL:P3D
REFRESH-INTERVAL:P3D
CALSCALE:GREGORIAN
BEGIN:VEVENT
DTSTART:20060510T220000Z
DTEND:20060510T160000Z
X-MICROSOFT-CDO-ALLDAYEVENT:FALSE
SUMMARY:Seminar: Historic Tax Credits for your Historic Building
DESCRIPTION:Summary:  The Federal Historic Preservation Tax Incentives program encourages the private sector rehabilitation of historic buildings through financial incentives. Since the establishment of the program in 1976\, communities have been revitalized through the rehabilitation of abandoned or under-used historic schools\, warehouses\, factories\, churches\, retail stores\, apartments\, hotels\, and offices.  In order to qualify for the tax credit\, a building must be income producing\, substantially rehabilitated and listed in the National Register of Historic Places (individually or as a contributing element of a historic district). The rehabilitation must follow the Secretary of the Interior's Standards for Rehabilitation\, which are designed to allow for the adaptive reuse of a building while ensuring its historic character is retained.      Richard Grubb & Associates will discuss the Federal tax credit program and how you might qualify.    The speakers: Martha Heuser\, Jen Leynes and Kate McConnell  Title: Architectural Historians Company: Richard Grubb & Associates
X-ALT-DESC;FMTTYPE=text/html:Summary:  The Federal Historic Preservation Tax Incentives program encourages the private sector rehabilitation of historic buildings through financial incentives. Since the establishment of the program in 1976\, communities have been revitalized through the rehabilitation of abandoned or under-used historic schools\, warehouses\, factories\, churches\, retail stores\, apartments\, hotels\, and offices.  In order to qualify for the tax credit\, a building must be income producing\, substantially rehabilitated and listed in the National Register of Historic Places (individually or as a contributing element of a historic district). The rehabilitation must follow the Secretary of the Interior's Standards for Rehabilitation\, which are designed to allow for the adaptive reuse of a building while ensuring its historic character is retained.      Richard Grubb & Associates will discuss the Federal tax credit program and how you might qualify.    The speakers: Martha Heuser\, Jen Leynes and Kate McConnell  Title: Architectural Historians Company: Richard Grubb & Associates 
LOCATION:Builders League Cherry Hill\, NJ 08034
UID:e.9292.1239
SEQUENCE:3
DTSTAMP:20260421T182243Z
URL:https://members.blsj.com/events/details/seminar-historic-tax-credits-for-your-historic-building-05-10-2006-1239
END:VEVENT

END:VCALENDAR
