BEGIN:VCALENDAR
VERSION:2.0
PRODID:-//ChamberMaster//Event Calendar 2.0//EN
METHOD:PUBLISH
X-PUBLISHED-TTL:P3D
REFRESH-INTERVAL:P3D
CALSCALE:GREGORIAN
BEGIN:VEVENT
DTSTART:20090519T220000Z
DTEND:20090519T160000Z
X-MICROSOFT-CDO-ALLDAYEVENT:FALSE
SUMMARY:Seminar: Health Insurance HSA'S & HRA'S: New Ways to Save Money-POSTPONED
DESCRIPTION:Would you like to reduce your Healthcare Benefit costs \n without reducing your employee's Benefits? Tuesday May 19\, 2009 \n We will be presenting various ways that business owners can save on their Healthcare costs. The following items will be discussed\;\n - Understanding the benefits of HDHP's\, HSA's\, and HRA's\n - Utilizing the rule of 80/20 to capitalize on medical savings\n - Self insuring all\, or just a portion\, of your employer health benefits\n We will also provide details on the most recent changes to COBRA and NJ State Continuation regulations due to The American Recovery and Reinvestment Act of 2009. \n Presenters: George G. Griffaton and Mary Anne Egan from The Stettler Group\n Sponsored by: Anthony & Company\, Inc Location: Builders League of South Jersey Office\n 114 Haddontowne Court\n Cherry Hill\, NJ 08034 Time: 8:30-9:00 Continental Breakfast\n 9:00-10:00 Program \n   BLSJ policy requires payment prior to the event or at the door.  \n All cancellations MUST BE given in writing at least 72 hours in advance or you will be billed.
X-ALT-DESC;FMTTYPE=text/html:<h3 style="color: red\; text-align: center">Would you like to reduce your Healthcare Benefit costs <br /> without reducing your employee&rsquo\;s Benefits?</h3> <p style="text-align: center">Tuesday May 19\, 2009</p> <p style="text-align: center"><br /> We will be presenting various ways that business owners can save on their Healthcare costs. The following items will be discussed\;<br /> - Understanding the benefits of HDHP&rsquo\;s\, HSA&rsquo\;s\, and HRA&rsquo\;s<br /> - Utilizing the rule of 80/20 to capitalize on medical savings<br /> - Self insuring all\, or just a portion\, of your employer health benefits<br /> We will also provide details on the most recent changes to COBRA and NJ State Continuation regulations due to The American Recovery and Reinvestment Act of 2009.</p> <p style="text-align: center"><br /> Presenters: George G. Griffaton and Mary Anne Egan from The Stettler Group<br /> Sponsored by: Anthony &amp\; Company\, Inc</p> <p style="text-align: center">Location: Builders League of South Jersey Office<br /> 114 Haddontowne Court<br /> Cherry Hill\, NJ 08034</p> <p style="text-align: center">Time: 8:30-9:00 Continental Breakfast<br /> 9:00-10:00 Program</p> <p style="text-align: center"><br /> &nbsp\;</p> <p style="text-align: center"><em>BLSJ policy requires payment prior to the event or at the door.&nbsp\; <br /> All cancellations MUST BE given in writing at least 72 hours in advance or you will be billed.</em></p>
LOCATION:114 Haddontowne Court Cherry Hill\, NJ 08034
UID:e.9292.574
SEQUENCE:3
DTSTAMP:20260422T075415Z
URL:https://members.blsj.com/events/details/seminar-health-insurance-hsa-s-hra-s-new-ways-to-save-money-postponed-05-19-2009-574
END:VEVENT

END:VCALENDAR
