BEGIN:VCALENDAR
VERSION:2.0
PRODID:-//ChamberMaster//Event Calendar 2.0//EN
METHOD:PUBLISH
X-PUBLISHED-TTL:P3D
REFRESH-INTERVAL:P3D
CALSCALE:GREGORIAN
BEGIN:VEVENT
DTSTART:20091210T230000Z
DTEND:20091210T170000Z
X-MICROSOFT-CDO-ALLDAYEVENT:FALSE
SUMMARY:SEMINAR: Green Homebuilder Management Offers Instant ROI
DESCRIPTION:Green Homebuilder Management Offers Instant ROI The "green building" movement is one of the largest movements to hit our industry. It is a movement that has been in place for about 5 years and looks like it is one that will be here for the long haul. At its most basic\, the movement towards green building and towards "green" products and lifestyle in general\, is all about the conservation of resources. The disappointing part of it is the unrealized prospect of reduced cost and increased profits for the builder and developer. This 1 hour seminar will provide you with the tools to continue to participate in the green building movement while increasing the bottom line of your organization: We will cover   Review of green building and it's return on investment to the builder   One area of green building that can provide an instant return on investment   Best business practices needed to implement the Green building return on investment   Presented bby Robert Cain\, Mark Systems
X-ALT-DESC;FMTTYPE=text/html:<p>Green Homebuilder Management Offers Instant ROI</p> <p>The &ldquo\;green building&rdquo\; movement is one of the largest movements to hit our industry. It is a movement that has been in place for about 5 years and looks like it is one that will be here for the long haul. At its most basic\, the movement towards green building and towards &ldquo\;green&rdquo\; products and lifestyle in general\, is all about the conservation of resources. The disappointing part of it is the unrealized prospect of reduced cost and increased profits for the builder and developer. This 1 hour seminar will provide you with the tools to continue to participate in the green building movement while increasing the bottom line of your organization:</p> <p>We will cover</p> <p>&middot\; Review of green building and it&rsquo\;s return on investment to the builder</p> <p>&middot\; One area of green building that can provide an instant return on investment</p> <p>&middot\; Best business practices needed to implement the Green building return on investment</p> <p>&nbsp\;</p> <p>Presented bby Robert Cain\, Mark Systems</p>
LOCATION:114 Haddontowne Court Cherry Hill\, NJ 08034
UID:e.9292.1237
SEQUENCE:3
DTSTAMP:20260421T235336Z
URL:https://members.blsj.com/events/details/seminar-green-homebuilder-management-offers-instant-roi-12-10-2009-1237
END:VEVENT

END:VCALENDAR
