BEGIN:VCALENDAR
VERSION:2.0
PRODID:-//ChamberMaster//Event Calendar 2.0//EN
METHOD:PUBLISH
X-PUBLISHED-TTL:P3D
REFRESH-INTERVAL:P3D
CALSCALE:GREGORIAN
BEGIN:VEVENT
DTSTART:20061115T230000Z
DTEND:20061115T230000Z
X-MICROSOFT-CDO-ALLDAYEVENT:FALSE
SUMMARY:Seminar: "Green Building for the Profit Minded Builder"
DESCRIPTION:Green is Gold  Green Building for the Profit- Minded Builder  \n 1. What's in it For the Builders? 2. Green Strategy 3. Practice What You Preach   \n Presented by:  Sarah Mitchell Thermal Seal Experts
X-ALT-DESC;FMTTYPE=text/html:<h1 style="MARGIN: 0in 0in 0pt\; TEXT-ALIGN: center" align="center"><strong style="mso-bidi-font-weight: normal"><font size="5"><font face="Times">Green is Gold </font></font></strong></h1> <h6><font face="Times"><st1:place w:st="on"><st1:placename w:st="on"><span style="FONT-SIZE: 16pt\; mso-bidi-font-size: 10.0pt">Green</span></st1:placename><span style="FONT-SIZE: 16pt\; mso-bidi-font-size: 10.0pt"> <st1:placetype w:st="on">Building</st1:placetype></span></st1:place><span style="FONT-SIZE: 16pt\; mso-bidi-font-size: 10.0pt"> for the Profit- Minded Builder<o:p></o:p></span></font></h6> <p class="MsoNormal" style="MARGIN: 0in 0in 0pt"><o:p><font face="Times" size="3">&nbsp\;<br /> </font></o:p><span style="FONT-FAMILY: Times\; mso-bidi-font-family: Â’Times New RomanÂ’"><em><span style="FONT-FAMILY: Times\; mso-bidi-font-family: Â’Times New RomanÂ’"><em><span style="FONT-FAMILY: Times\; mso-bidi-font-family: Â’Times New RomanÂ’"><em><span style="FONT-FAMILY: Times\; mso-bidi-font-family: Â’Times New RomanÂ’"><em><font style="FONT-SIZE: 18px"><span style="FONT-FAMILY: Times\; mso-bidi-font-family: Â’Times New RomanÂ’"><em><span style="FONT-FAMILY: Times\; mso-bidi-font-family: Â’Times New RomanÂ’"><em><span style="FONT-FAMILY: Times\; mso-bidi-font-family: Â’Times New RomanÂ’"><em><span style="FONT-FAMILY: Times\; mso-bidi-font-family: Â’Times New RomanÂ’"><em><strong>1. What&rsquo\;s in it For the Builders?</strong></em></span></em></span></em></span></em></span></font></em></span></em></span></em></span></em></span></p> <h2 style="MARGIN: 12pt 0in 3pt"><span style="FONT-FAMILY: Times\; mso-bidi-font-family: Â’Times New RomanÂ’"><em>2. Green Strategy<o:p></o:p></em></span></h2> <h2 style="MARGIN: 12pt 0in 3pt"><span style="FONT-FAMILY: Times\; mso-bidi-font-family: Â’Times New RomanÂ’"><em>3. Practice What You Preach<o:p></o:p></em></span></h2> <h3 style="MARGIN: 12pt 0in 3pt\; TEXT-INDENT: 0.5in"> <h5 style="MARGIN: 12pt 0in 3pt"><span style="FONT-WEIGHT: normal\; FONT-STYLE: normal"><o:p><font face="Times" size="4"></font></o:p></span></h5> <br /> Presented by: </h3> <p style="MARGIN: 0px"><font style="FONT: 12px Helvetica" face="Helvetica" size="3">Sarah Mitchell</font></p> <p style="MARGIN: 0px"><font style="FONT: 12px Helvetica" face="Helvetica" size="3">Thermal Seal Experts</font></p>
LOCATION:Builders League of South Jersey 114 Haddontowne Ct Cherry Hill\, NJ 08034
UID:e.9292.1232
SEQUENCE:3
DTSTAMP:20260422T011338Z
URL:https://members.blsj.com/events/details/seminar-green-building-for-the-profit-minded-builder-11-15-2006-1232
END:VEVENT

END:VCALENDAR
