BEGIN:VCALENDAR
VERSION:2.0
PRODID:-//ChamberMaster//Event Calendar 2.0//EN
METHOD:PUBLISH
X-PUBLISHED-TTL:P3D
REFRESH-INTERVAL:P3D
CALSCALE:GREGORIAN
BEGIN:VEVENT
DTSTART:20070213T170000Z
DTEND:20070213T230000Z
X-MICROSOFT-CDO-ALLDAYEVENT:FALSE
SUMMARY:Seminar: Golf Outings for Dummies
DESCRIPTION:Have you ever wanted to volunteer at a golf outing but were afraid because you don't know the first thing about golf?   We have the seminar for you!!!!!   Join us on February 13th for an overview on golf basics as well as what is needed to assist at one of our outings.   We have 3 scheduled outings in 2007 with minimum attendance of 120 at each event.  What a great way to network & get to know your fellow BLSJ members!!
X-ALT-DESC;FMTTYPE=text/html:<p class="MsoBodyText" style="MARGIN: 0in 0in 0pt"><span style="FONT-SIZE: 12pt">Have you ever wanted to volunteer at a golf outing but were afraid because you don&rsquo\;t know the first thing about golf?</span></p> <p class="MsoBodyText" style="MARGIN: 0in 0in 0pt"><span style="FONT-SIZE: 12pt"></span></p> <span style="FONT-SIZE: 12pt"><o:p> <p class="MsoNormal" style="MARGIN: 0in 0in 0pt\; TEXT-ALIGN: center" align="center"><strong><span style="FONT-SIZE: 20pt\; mso-bidi-font-size: 12.0pt"><font face="Times New Roman">We have the seminar for you!!!!!</font></span></strong></p> <p class="MsoNormal" style="MARGIN: 0in 0in 0pt\; TEXT-ALIGN: center" align="center"><strong><span style="FONT-SIZE: 20pt\; mso-bidi-font-size: 12.0pt"><font face="Times New Roman"></font></span></strong></p> <span style="FONT-SIZE: 20pt\; mso-bidi-font-size: 12.0pt"><font face="Times New Roman"><o:p> <p class="MsoNormal" style="MARGIN: 0in 0in 0pt"><span style="FONT-FAMILY: Arial"><font size="3">Join us on February 13<sup>th</sup> for an overview on golf basics as well as what is needed to assist at one of our outings.<o:p></o:p></font></span></p> <p class="MsoNormal" style="MARGIN: 0in 0in 0pt"><span style="FONT-FAMILY: Arial"><o:p><font size="3">&nbsp\;</font></o:p></span></p> <p class="MsoNormal" style="MARGIN: 0in 0in 0pt"><span style="FONT-FAMILY: Arial"><font size="3">We have 3 scheduled outings in 2007 with minimum attendance of 120 at <strong>each </strong>event.<span style="mso-spacerun: yes">&nbsp\; </span>What a great way to network &amp\; get to know your fellow BLSJ members!!<o:p></o:p></font></span></p> <p class="MsoNormal" style="MARGIN: 0in 0in 0pt\; TEXT-ALIGN: center" align="left">&nbsp\;</p> </o:p></font></span></o:p></span>
LOCATION:Builders League office Cherry Hill\, NJ 08034
UID:e.9292.1562
SEQUENCE:3
DTSTAMP:20260422T052505Z
URL:https://members.blsj.com/events/details/seminar-golf-outings-for-dummies-02-13-2007-1562
END:VEVENT

END:VCALENDAR
