BEGIN:VCALENDAR
VERSION:2.0
PRODID:-//ChamberMaster//Event Calendar 2.0//EN
METHOD:PUBLISH
X-PUBLISHED-TTL:P3D
REFRESH-INTERVAL:P3D
CALSCALE:GREGORIAN
BEGIN:VEVENT
DTSTART:20090611T220000Z
DTEND:20090611T160000Z
X-MICROSOFT-CDO-ALLDAYEVENT:FALSE
SUMMARY:Seminar: Get More Mileage From Your Marketing
DESCRIPTION:In this Google-centric era\, every business can and should be an "online business". An effective website and strategic online marketing plan can bring you new leads and increased profits. \n \n This educational seminar details the ways in which online marketing can help you boost profitability by targeting your audience more effectively. \n We provide a breakdown of the various elements of an on line marketing campaign and explain how they can each be used to your advantage. \n Business owners will eave the seminar with a broad plan of action that can be implemented to achieve success in the virtual marketplace. HOW WILL YOU BENEFIT?\n Harnessing the power of the internet for marketing purposes can provide a significant return on investment.  We will give you the tools to broadcast your message to your target audience.  Attendees are provided with an overview of:\n * Search Engine Optimization (SEO)\n *Pay-Per-Click Advertising\n *Social Media Optimization (SMO)\n *Google Analytics Traffic Analysis\n *Defining Measureable Goals\n *Customizing An Online Marketing Campaign for Your Business Goals\n \n Presented by: Miles Technologies
X-ALT-DESC;FMTTYPE=text/html:<p>In this Google-centric era\, every business can and should be an &quot\;online business&quot\;. An effective website and strategic online marketing plan can bring you new leads and increased profits. <br /> <br /> This educational seminar details the ways in which online marketing can help you boost profitability by targeting your audience more effectively. <br /> We provide a breakdown of the various elements of an on line marketing campaign and explain how they can each be used to your advantage. <br /> Business owners will eave the seminar with a broad plan of action that can be implemented to achieve success in the virtual marketplace.</p> <p><u><strong>HOW WILL YOU BENEFIT?<br /> </strong></u>Harnessing the power of the internet for marketing purposes can provide a significant return on investment.&nbsp\; We will give you the tools to broadcast your message to your target audience.&nbsp\; Attendees are provided with an overview of:<br /> * Search Engine Optimization (SEO)<br /> *Pay-Per-Click Advertising<br /> *Social Media Optimization (SMO)<br /> *Google Analytics Traffic Analysis<br /> *Defining Measureable Goals<br /> *Customizing An Online Marketing Campaign for Your Business Goals<br /> <br /> Presented by: Miles Technologies</p>
LOCATION:114 Haddontowne Court Cherry Hill\, NJ 08034
UID:e.9292.1561
SEQUENCE:3
DTSTAMP:20260422T063812Z
URL:https://members.blsj.com/events/details/seminar-get-more-mileage-from-your-marketing-06-11-2009-1561
END:VEVENT

END:VCALENDAR
