BEGIN:VCALENDAR
VERSION:2.0
PRODID:-//ChamberMaster//Event Calendar 2.0//EN
METHOD:PUBLISH
X-PUBLISHED-TTL:P3D
REFRESH-INTERVAL:P3D
CALSCALE:GREGORIAN
BEGIN:VEVENT
DTSTART:20090915T220000Z
DTEND:20090915T160000Z
X-MICROSOFT-CDO-ALLDAYEVENT:FALSE
SUMMARY:Seminar: 'Explore All of the Different Shades of Green Lighting'
DESCRIPTION:'Explore All the Different Shades of Green Lighting' - Presented by Warshauer Electric Want to go green but not really sure how to? Confused by all of the different green programs in our marketplace? Let the experts from Warshauer Electric explain the green marketplace and the major components of the different green building programs. From Energy Star\, to LEED for Homes and the new NAHB Green Building Standard\, Explore the differences\, learn the rules\, see the technology and decide which green building path is right for you.  Speaker: Jim Dunn\, E.E.\, LEED-AP\, CGP\n Executive V.P. Sales & Marketing\n Warshauer Electric
X-ALT-DESC;FMTTYPE=text/html:<p>&rsquo\;Explore All the Different Shades of Green Lighting&rsquo\; - Presented by Warshauer Electric</p> <p>Want to go green but not really sure how to? Confused by all of the different green programs in our marketplace? Let the experts from Warshauer Electric explain the green marketplace and the major components of the different green building programs. From Energy Star\, to LEED for Homes and the new NAHB Green Building Standard\, Explore the differences\, learn the rules\, see the technology and decide which green building path is right for you.&nbsp\;</p> <p>Speaker: Jim Dunn\, E.E.\, LEED-AP\, CGP<br /> Executive V.P. Sales &amp\; Marketing<br /> Warshauer Electric</p>
LOCATION:114 Haddontowne Court Cherry Hill\, NJ 08034
UID:e.9292.1449
SEQUENCE:3
DTSTAMP:20260422T040422Z
URL:https://members.blsj.com/events/details/seminar-explore-all-of-the-different-shades-of-green-lighting-09-15-2009-1449
END:VEVENT

END:VCALENDAR
