BEGIN:VCALENDAR
VERSION:2.0
PRODID:-//ChamberMaster//Event Calendar 2.0//EN
METHOD:PUBLISH
X-PUBLISHED-TTL:P3D
REFRESH-INTERVAL:P3D
CALSCALE:GREGORIAN
BEGIN:VEVENT
DTSTART:20061129T230000Z
DTEND:20061129T230000Z
X-MICROSOFT-CDO-ALLDAYEVENT:FALSE
SUMMARY:Seminar: Everything you wanted to know about Reverse Mortgages bu
DESCRIPTION:"Everything you always wanted to know about Reverse Mortgages\, but were afraid to ask" A Reverse Mortgage allows homeowners 62 years of age or older to receive equity from their home without having to make a monthly mortgage payment.   FAQ'S   Frequently Asked Questions:   1. How does one qualify?   2. How is the loan paid back?   3. How is the equity received?   4. Does the bank take the home?   5. Can this be used to buy a home?   With the Baby Boom Generation turning 60 this year\, this is becoming one of the most popular financing options for our senior population. Please join us for this informative presentation
X-ALT-DESC;FMTTYPE=text/html:<p class="MsoNormal" style="MARGIN: 0in 0in 0pt\; TEXT-ALIGN: center" align="center"><strong><em><span style="FONT-SIZE: 20pt\; COLOR: red\; FONT-FAMILY: Arial\; FONT-VARIANT: small-caps">&ldquo\;</span></em></strong><strong style="mso-bidi-font-weight: normal"><span style="FONT-SIZE: 20pt\; COLOR: red"><font face="Times New Roman">Everything you always wanted to know about Reverse Mortgages\, but were afraid to ask&rdquo\;<o:p></o:p></font></span></strong></p> <p><span style="FONT-SIZE: 14pt"><font face="Times New Roman">A Reverse Mortgage allows homeowners 62 years of age or older to receive equity from their home without having to make a monthly mortgage payment.<o:p></o:p></font></span></p> <p class="MsoNormal" style="MARGIN: 0in 0in 0pt"><span style="FONT-SIZE: 14pt"><o:p><font face="Times New Roman">&nbsp\;</font></o:p></span></p> <p class="MsoNormal" style="MARGIN: 0in 0in 0pt"><span style="FONT-SIZE: 14pt"><font face="Times New Roman">FAQ&rsquo\;S &ndash\; Frequently Asked Questions:<o:p></o:p></font></span></p> <p class="MsoNormal" style="MARGIN: 0in 0in 0pt"><span style="FONT-SIZE: 14pt"><o:p><font face="Times New Roman">&nbsp\;</font></o:p></span></p> <p class="MsoNormal" style="MARGIN: 0in 0in 0pt"><span style="FONT-SIZE: 14pt"><font face="Times New Roman">1. How does one qualify?<o:p></o:p></font></span></p> <p class="MsoNormal" style="MARGIN: 0in 0in 0pt"><span style="FONT-SIZE: 14pt"><o:p><font face="Times New Roman">&nbsp\;</font></o:p></span></p> <p class="MsoNormal" style="MARGIN: 0in 0in 0pt"><span style="FONT-SIZE: 14pt"><font face="Times New Roman">2. How is the loan paid back?<o:p></o:p></font></span></p> <p class="MsoNormal" style="MARGIN: 0in 0in 0pt"><span style="FONT-SIZE: 14pt"><o:p><font face="Times New Roman">&nbsp\;</font></o:p></span></p> <p class="MsoNormal" style="MARGIN: 0in 0in 0pt"><span style="FONT-SIZE: 14pt"><font face="Times New Roman">3. How is the equity received?<o:p></o:p></font></span></p> <p class="MsoNormal" style="MARGIN: 0in 0in 0pt"><span style="FONT-SIZE: 14pt"><o:p><font face="Times New Roman">&nbsp\;</font></o:p></span></p> <p class="MsoNormal" style="MARGIN: 0in 0in 0pt"><span style="FONT-SIZE: 14pt"><font face="Times New Roman">4. Does the bank take the home?<o:p></o:p></font></span></p> <p class="MsoNormal" style="MARGIN: 0in 0in 0pt"><span style="FONT-SIZE: 14pt"><o:p><font face="Times New Roman">&nbsp\;</font></o:p></span></p> <p class="MsoNormal" style="MARGIN: 0in 0in 0pt"><span style="FONT-SIZE: 14pt"><font face="Times New Roman">5. Can this be used to buy a home?<o:p></o:p></font></span></p> <p class="MsoNormal" style="MARGIN: 0in 0in 0pt"><span style="FONT-SIZE: 14pt"><o:p><font face="Times New Roman">&nbsp\;</font></o:p></span></p> <p class="MsoNormal" style="MARGIN: 0in 0in 0pt"><strong style="mso-bidi-font-weight: normal"><span style="FONT-SIZE: 14pt"><font face="Times New Roman">With the Baby Boom Generation turning 60 this year\, this is becoming one of the most popular financing options for our senior population. Please join us for this informative presentation<o:p></o:p></font></span></strong></p> <p class="MsoBodyText" style="MARGIN: 0in 0in 0pt"><strong><span style="FONT-WEIGHT: normal\; FONT-SIZE: 14pt\; FONT-FAMILY: Arial\; mso-bidi-font-size: 12.0pt"><o:p>&nbsp\;</o:p></span></strong></p>
LOCATION:Builders League of SJ 114 Hadedontowne Ct Cherry Hill\, NJ 08034
UID:e.9292.1236
SEQUENCE:3
DTSTAMP:20260422T011804Z
URL:https://members.blsj.com/events/details/seminar-everything-you-wanted-to-know-about-reverse-mortgages-bu-11-29-2006-1236
END:VEVENT

END:VCALENDAR
