BEGIN:VCALENDAR
VERSION:2.0
PRODID:-//ChamberMaster//Event Calendar 2.0//EN
METHOD:PUBLISH
X-PUBLISHED-TTL:P3D
REFRESH-INTERVAL:P3D
CALSCALE:GREGORIAN
BEGIN:VEVENT
DTSTART:20060518T220000Z
DTEND:20060518T220000Z
X-MICROSOFT-CDO-ALLDAYEVENT:FALSE
SUMMARY:Seminar:Environmental Site Constraints Affecting Land Development - 05/18/2006
DESCRIPTION:Site Constraints Affecting Land Development -Case Studies in Environmental Planning  Part II  Seminar Outline  "Case Studies" of historic DWSA projects that involve a multitude of issues affecting the development of the properties in question. Of particular interest will be environmental concerns uncovered as well as other "surprises" for the prospective buyers. Several projects will be featured as follows:   Commercial Site (Sayreville)   Public Park Site (Long Branch)   Residential Subdivision (Howell)   Wild Cat Lot Assembly (Berkeley)   Salvage Yard (Howell)   A Case Study "summary" will be drafted for each site and given to the attendees about a week in advance of the seminar. The package will contain the following:   A description of the site with the goals for the project   Publicly available data   Site pictures    We will review these case studies with the attendees and see who would purchase the site (why or why not) and reveal our findings. Over the years\, DWSA has put together a very comprehensive site assessment tool called a LDFA or Limited Development Feasibility Analysis to aid our clients in assessing the development potential of property. We will apply our Greengineering techniques to these sites for what will be a very informative and fun session.  Presented by:    Victor J. Coppola\, Director of Environmental Services              Kevin Rothauser              D.W. Smith Associates\, LLC
X-ALT-DESC;FMTTYPE=text/html:Site Constraints Affecting Land Development -Case Studies in Environmental Planning  Part II  Seminar Outline  "Case Studies" of historic DWSA projects that involve a multitude of issues affecting the development of the properties in question. Of particular interest will be environmental concerns uncovered as well as other "surprises" for the prospective buyers. Several projects will be featured as follows:   Commercial Site (Sayreville)   Public Park Site (Long Branch)   Residential Subdivision (Howell)   Wild Cat Lot Assembly (Berkeley)   Salvage Yard (Howell)   A Case Study "summary" will be drafted for each site and given to the attendees about a week in advance of the seminar. The package will contain the following:   A description of the site with the goals for the project   Publicly available data   Site pictures    We will review these case studies with the attendees and see who would purchase the site (why or why not) and reveal our findings. Over the years\, DWSA has put together a very comprehensive site assessment tool called a LDFA or Limited Development Feasibility Analysis to aid our clients in assessing the development potential of property. We will apply our Greengineering techniques to these sites for what will be a very informative and fun session.  Presented by:    Victor J. Coppola\, Director of Environmental Services              Kevin Rothauser              D.W. Smith Associates\, LLC    
LOCATION:Builders League of South Jersey 114 Haddontowne Ct Cherry Hill\, NJ 08034
UID:e.9292.873
SEQUENCE:3
DTSTAMP:20260421T165737Z
URL:https://members.blsj.com/events/details/seminar-environmental-site-constraints-affecting-land-development-05-18-2006-05-18-2006-873
END:VEVENT

END:VCALENDAR
