BEGIN:VCALENDAR
VERSION:2.0
PRODID:-//ChamberMaster//Event Calendar 2.0//EN
METHOD:PUBLISH
X-PUBLISHED-TTL:P3D
REFRESH-INTERVAL:P3D
CALSCALE:GREGORIAN
BEGIN:VEVENT
DTSTART:20051020T220000Z
DTEND:20051020T220000Z
X-MICROSOFT-CDO-ALLDAYEVENT:FALSE
SUMMARY:Seminar: Employee Stock Ownership Program - Canceled
DESCRIPTION:Presented by: Anthony Gambacorta\, Preswick Capital and John Rafter\, Parente Randolph
X-ALT-DESC;FMTTYPE=text/html:Presented by: Anthony Gambacorta\, Preswick Capital and John Rafter\, Parente Randolph
LOCATION:Builders League of South Jersey 114 Haddontowne Ct\, NJ 08034
UID:e.9292.573
SEQUENCE:3
DTSTAMP:20260421T070819Z
URL:https://members.blsj.com/events/details/seminar-employee-stock-ownership-program-canceled-10-20-2005-573
END:VEVENT

END:VCALENDAR
