BEGIN:VCALENDAR
VERSION:2.0
PRODID:-//ChamberMaster//Event Calendar 2.0//EN
METHOD:PUBLISH
X-PUBLISHED-TTL:P3D
REFRESH-INTERVAL:P3D
CALSCALE:GREGORIAN
BEGIN:VEVENT
DTSTART:20090917T220000Z
DTEND:20090917T160000Z
X-MICROSOFT-CDO-ALLDAYEVENT:FALSE
SUMMARY:Seminar: Effective SEO Strategies
DESCRIPTION:Effective SEO Strategies One of the most effective ways to increase your website's traffic and profits is through SEO or Search Engine Optimization. SEO works to help websites appear higher in the organic or natural search results\, using special tactics to boost rankings. However\, if inproperly done\, the repercussions could be terrible\, with search engines completely banning a site from their listings. Renowned for ethical SEO strategies that have reaped great rewards for clients\, Miles Technologies will share insights and effective SEO strategies for online success. This educational seminar will provide comprehensive step-by-step instructions on ways to enhance your website to make it more search engine friendly. Additionally\, advice will be provided on which questionable strategies to avoid. Business owners will leave the seminar with a focused plan of action to boost profits via the search engines. HOW WILL YOU BENEFIT?\n A solid online presence not only increases profitability but can also save money by lowering your advertising costs. Our instructional seminar will give you the tools and the confidence to transform your site into an effective online sales tool.  Attendees are provided with an overview of:\n *On-Page SEO\, including\n *Meta-Tags & Alt Image Tags\n *URLs\n *Picking Powerful Keywords\n *Creating Content that Search Engines Love\n *Link Building the Correct Way\n *Harnessing the Power of Social Media\n *Tactics to Avoid\n *Google Analytics Traffic Analysis Presented by: Miles Technologies' team of online marketing specialists
X-ALT-DESC;FMTTYPE=text/html:<p>Effective SEO Strategies</p> <p>One of the most effective ways to increase your website's traffic and profits is through SEO or Search Engine Optimization. SEO works to help websites appear higher in the organic or natural search results\, using special tactics to boost rankings. However\, if inproperly done\, the repercussions could be terrible\, with search engines completely banning a site from their listings.</p> <p>Renowned for ethical SEO strategies that have reaped great rewards for clients\, Miles Technologies will share insights and effective SEO strategies for online success. This educational seminar will provide comprehensive step-by-step instructions on ways to enhance your website to make it more search engine friendly. Additionally\, advice will be provided on which questionable strategies to avoid. Business owners will leave the seminar with a focused plan of action to boost profits via the search engines.</p> <p>HOW WILL YOU BENEFIT?<br /> A solid online presence not only increases profitability but can also save money by lowering your advertising costs. Our instructional seminar will give you the tools and the confidence to transform your site into an effective online sales tool.&nbsp\; Attendees are provided with an overview of:<br /> *On-Page SEO\, including<br /> *Meta-Tags &amp\; Alt Image Tags<br /> *URLs<br /> *Picking Powerful Keywords<br /> *Creating Content that Search Engines Love<br /> *Link Building the Correct Way<br /> *Harnessing the Power of Social Media<br /> *Tactics to Avoid<br /> *Google Analytics Traffic Analysis</p> <p>Presented by: Miles Technologies' team of online marketing specialists</p> <p>&nbsp\;</p>
LOCATION:114 Haddontowne Court Cherry Hill\, NJ 08034
UID:e.9292.1235
SEQUENCE:3
DTSTAMP:20260422T023235Z
URL:https://members.blsj.com/events/details/seminar-effective-seo-strategies-09-17-2009-1235
END:VEVENT

END:VCALENDAR
