BEGIN:VCALENDAR
VERSION:2.0
PRODID:-//ChamberMaster//Event Calendar 2.0//EN
METHOD:PUBLISH
X-PUBLISHED-TTL:P3D
REFRESH-INTERVAL:P3D
CALSCALE:GREGORIAN
BEGIN:VEVENT
DTSTART:20061024T220000Z
DTEND:20061024T160000Z
X-MICROSOFT-CDO-ALLDAYEVENT:FALSE
SUMMARY:Seminar: Do It Yourself (DIY): Effective eMarketing Solutions
DESCRIPTION:DIY Effective eMarketing Solutions \n \n Email Marketing Integrating \n Email Marketing with Direct Mail and/or your Print Campaign \n Follow up \n eNewsletters\, etc. \n \n \n Presenter: Jay Winkler\, Partner & Creative Director\, Idea Lab
X-ALT-DESC;FMTTYPE=text/html:<p align="center"><strong><font style="FONT-SIZE: 14px"><strong>DIY Effective eMarketing Solutions</strong>&nbsp\;</font></strong><br /> <br /> <font style="FONT-SIZE: 14px">Email Marketing Integrating&nbsp\;<br /> Email Marketing with Direct Mail and/or your Print Campaign&nbsp\;<br /> Follow up&nbsp\;<br /> eNewsletters\, etc.&nbsp\;<br /> </font><br /> <br /> <font style="FONT-SIZE: 14px">Presenter: Jay Winkler\, Partner &amp\; Creative Director\, Idea Lab </font></p>
LOCATION:Builders league of South Jersey 114 Haddontowne Ct Cherry Hill\, NJ 08034
UID:e.9292.1560
SEQUENCE:3
DTSTAMP:20260421T235238Z
URL:https://members.blsj.com/events/details/seminar-do-it-yourself-diy-effective-emarketing-solutions-10-24-2006-1560
END:VEVENT

END:VCALENDAR
