BEGIN:VCALENDAR
VERSION:2.0
PRODID:-//ChamberMaster//Event Calendar 2.0//EN
METHOD:PUBLISH
X-PUBLISHED-TTL:P3D
REFRESH-INTERVAL:P3D
CALSCALE:GREGORIAN
BEGIN:VEVENT
DTSTART:20100422T220000Z
DTEND:20100422T220000Z
X-MICROSOFT-CDO-ALLDAYEVENT:FALSE
SUMMARY:SEMINAR: DEAL OR NO DEAL: THE $1\,000\,000 CASE YOU DON'T WANT TO OPEN-POSTPONED
DESCRIPTION:Normal 0   false false false        MicrosoftInternetExplorer4       st1\\:*{behavior:url(#ieooui) }      /* Style Definitions */ table.MsoNormalTable {mso-style-name:"Table Normal"\; mso-tstyle-rowband-size:0\; mso-tstyle-colband-size:0\; mso-style-noshow:yes\; mso-style-parent:""\; mso-padding-alt:0in 5.4pt 0in 5.4pt\; mso-para-margin:0in\; mso-para-margin-bottom:.0001pt\; mso-pagination:widow-orphan\; font-size:10.0pt\; font-family:"Times New Roman"\; mso-ansi-language:#0400\; mso-fareast-language:#0400\; mso-bidi-language:#0400\;}   DEAL OR NO DEAL: The $1\,000\,000 Case You Don't Want to Open    An "Explosive" Case Study Based on the Popular TV Game Show that Reveals Why You Should Choose Your \n Phase I ESA Environmental Consultant Based on "Optimum Price" Instead of Lowest Price   - Thursday\, April 22nd\, 2010 -   Are You Paying Too Little for Your Phase I Environmental Site Assessment? This might seem like an odd question\, especially in these challenging economic times in which we've all learned ways to cut costs and become more efficient. But would you pay just a few hundred dollars more to avoid a potential environmental liability of $1\,000\,000?   Join us for the fascinating story of two Phase I Environmental Site Assessments performed for the same property prior to a planned major residential subdivision in southern New Jersey. Why did these studies reach such drastically different conclusions? What was discovered in one report\, but not the other\, that showed there was a potential environmental liability of at least $1\,000\,000\, and maybe two or three times that?    This multimedia presentation traces the history of a World War II era bomb factory on which a residential community was planned\, including:                      Rare photographs and diagrams of the bomb plant.                   Historic newsreel video footage of the factory workers during its operation.                   A "virtual" tour of the site as it currently exists more than 60 years later.                   Description of the potential hazards that would affect residential development.   The presentation will conclude with some recent news headlines surrounding an existing community near Orlando\, Florida\, where World War II era bombs have been found buried beneath a school property and surrounding areas.    To learn more\, attend the upcoming breakfast seminar to be held at the Builders League of South Jersey facility on Thursday\, April 22\, 2010\, from 9:00 am to 10:30 am. Registration and continental breakfast begin at 8:30 a.m.   Presented by: Gary Rakow\,  VP     \n  V.P.\,   G   Geo-Technology Associates\, Inc.
X-ALT-DESC;FMTTYPE=text/html:<p> <meta http-equiv="Content-Type" content="text/html\; charset=utf-8" /> <meta name="ProgId" content="Word.Document" /> <meta name="Generator" content="Microsoft Word 11" /> <meta name="Originator" content="Microsoft Word 11" /><link href="file:///C:\\DOCUME~1\\Marlene\\LOCALS~1\\Temp\\msohtml1\\01\\clip_filelist.xml" rel="File-List" /><o:smarttagtype name="State" namespaceuri="urn:schemas-microsoft-com:office:smarttags" downloadurl="http://www.5iamas-microsoft-com:office:smarttags"></o:smarttagtype><o:smarttagtype name="City" namespaceuri="urn:schemas-microsoft-com:office:smarttags" downloadurl="http://www.5iamas-microsoft-com:office:smarttags"></o:smarttagtype><o:smarttagtype name="place" namespaceuri="urn:schemas-microsoft-com:office:smarttags" downloadurl="http://www.5iantlavalamp.com/"></o:smarttagtype><!--[if gte mso 9]><xml> <w:WordDocument> <w:View>Normal</w:View> <w:Zoom>0</w:Zoom> <w:PunctuationKerning /> <w:ValidateAgainstSchemas /> <w:SaveIfXMLInvalid>false</w:SaveIfXMLInvalid> <w:IgnoreMixedContent>false</w:IgnoreMixedContent> <w:AlwaysShowPlaceholderText>false</w:AlwaysShowPlaceholderText> <w:Compatibility> <w:BreakWrappedTables /> <w:SnapToGridInCell /> <w:WrapTextWithPunct /> <w:UseAsianBreakRules /> <w:DontGrowAutofit /> </w:Compatibility> <w:BrowserLevel>MicrosoftInternetExplorer4</w:BrowserLevel> </w:WordDocument> </xml><![endif]--><!--[if gte mso 9]><xml> <w:LatentStyles DefLockedState="false" LatentStyleCount="156"> </w:LatentStyles> </xml><![endif]--><!--[if !mso]><object classid="clsid:38481807-CA0E-42D2-BF39-B33AF135CC4D" id=ieooui></object> <style> st1\\:*{behavior:url(#ieooui) } </style> <![endif]--><style type="text/css"> <!--  /* Style Definitions */  p.MsoNormal\, li.MsoNormal\, div.MsoNormal    {mso-style-parent:""\;    margin:0in\;    margin-bottom:.0001pt\;    mso-pagination:widow-orphan\;    font-size:12.0pt\;    font-family:"Times New Roman"\;    mso-fareast-font-family:"Times New Roman"\;} @page Section1    {size:8.5in 11.0in\;    margin:1.0in 1.25in 1.0in 1.25in\;    mso-header-margin:.5in\;    mso-footer-margin:.5in\;    mso-paper-source:0\;} div.Section1    {page:Section1\;}  /* List Definitions */  @list l0    {mso-list-id:1351646464\;    mso-list-type:hybrid\;    mso-list-template-ids:1831636024 708241648 67698691 67698693 67698689 67698691 67698693 67698689 67698691 67698693\;} @list l0:level1    {mso-level-number-format:bullet\;    mso-level-text:???\;    mso-level-tab-stop:.5in\;    mso-level-number-position:left\;    text-indent:-.25in\;    mso-ansi-font-size:12.0pt\;    mso-bidi-font-size:12.0pt\;    font-family:Symbol\;} @list l0:level2    {mso-level-tab-stop:1.0in\;    mso-level-number-position:left\;    text-indent:-.25in\;} @list l0:level3    {mso-level-tab-stop:1.5in\;    mso-level-number-position:left\;    text-indent:-.25in\;} @list l0:level4    {mso-level-tab-stop:2.0in\;    mso-level-number-position:left\;    text-indent:-.25in\;} @list l0:level5    {mso-level-tab-stop:2.5in\;    mso-level-number-position:left\;    text-indent:-.25in\;} @list l0:level6    {mso-level-tab-stop:3.0in\;    mso-level-number-position:left\;    text-indent:-.25in\;} @list l0:level7    {mso-level-tab-stop:3.5in\;    mso-level-number-position:left\;    text-indent:-.25in\;} @list l0:level8    {mso-level-tab-stop:4.0in\;    mso-level-number-position:left\;    text-indent:-.25in\;} @list l0:level9    {mso-level-tab-stop:4.5in\;    mso-level-number-position:left\;    text-indent:-.25in\;} ol    {margin-bottom:0in\;} ul    {margin-bottom:0in\;} --> </style><!--[if gte mso 10]> <style> /* Style Definitions */ table.MsoNormalTable {mso-style-name:"Table Normal"\; mso-tstyle-rowband-size:0\; mso-tstyle-colband-size:0\; mso-style-noshow:yes\; mso-style-parent:""\; mso-padding-alt:0in 5.4pt 0in 5.4pt\; mso-para-margin:0in\; mso-para-margin-bottom:.0001pt\; mso-pagination:widow-orphan\; font-size:10.0pt\; font-family:"Times New Roman"\; mso-ansi-language:#0400\; mso-fareast-language:#0400\; mso-bidi-language:#0400\;} </style> <![endif]--></p> <p class="MsoNormal" align="center" style="text-align: center"><b><i><span style="font-size: 18pt\; font-family: Arial">DEAL OR NO DEAL:<o:p></o:p></span></i></b></p> <p class="MsoNormal" align="center" style="text-align: center"><b><i><span style="font-size: 18pt\; font-family: Arial">The $1\,000\,000 Case You Don&rsquo\;t Want to Open <o:p></o:p></span></i></b></p> <p class="MsoNormal"><b><i><span style="font-size: 18pt\; font-family: Arial"><o:p>&nbsp\;</o:p></span></i></b></p> <p class="MsoNormal" align="center" style="text-align: center"><span style="font-size: 18pt\; font-family: Arial">An &ldquo\;Explosive&rdquo\; Case Study Based on the Popular<o:p></o:p></span></p> <p class="MsoNormal" align="center" style="text-align: center"><span style="font-size: 18pt\; font-family: Arial">TV Game Show that Reveals Why You Should Choose Your <br /> Phase I ESA Environmental Consultant<o:p></o:p></span></p> <p class="MsoNormal" align="center" style="text-align: center"><span style="font-size: 18pt\; font-family: Arial">Based on &ldquo\;Optimum Price&rdquo\; Instead of Lowest Price<o:p></o:p></span></p> <p class="MsoNormal" align="center" style="text-align: center"><b><i><o:p>&nbsp\;</o:p></i></b></p> <p class="MsoNormal" align="center" style="text-align: center"><b><span style="font-size: 16pt\; font-family: Arial">- Thursday\, April 22nd\, 2010 -<o:p></o:p></span></b></p> <p class="MsoNormal" align="center" style="text-align: center"><o:p>&nbsp\;</o:p></p> <p class="MsoNormal" style="text-align: justify"><b><i><span style="font-size: 10pt\; font-family: Arial">Are You Paying Too <u>Little</u> for Your Phase I Environmental Site Assessment? </span></i></b><span style="font-size: 10pt\; font-family: Arial">This might seem like an odd question\, especially in these challenging economic times in which we&rsquo\;ve all learned ways to cut costs and become more efficient. But would you pay just a few hundred dollars more to avoid a potential environmental liability of $1\,000\,000?<o:p></o:p></span></p> <p class="MsoNormal" style="text-align: justify"><span style="font-size: 10pt\; font-family: Arial"><o:p>&nbsp\;</o:p></span></p> <p class="MsoNormal" style="text-align: justify"><span style="font-size: 10pt\; font-family: Arial">Join us for the fascinating story of two Phase I Environmental Site Assessments performed for the <u>same</u> property prior to a planned major residential subdivision in southern <st1:state w:st="on"><st1:place w:st="on">New Jersey</st1:place></st1:state>. Why did these studies reach such drastically different conclusions? What was discovered in one report\, but not the other\, that showed there was a potential environmental liability of at least $1\,000\,000\, and maybe two or three times that? </span><span style="font-size: 10pt\; font-family: Arial"><o:p></o:p></span></p> <p class="MsoNormal" style="text-align: justify"><span style="font-size: 10pt\; font-family: Arial"><o:p>&nbsp\;</o:p></span></p> <p class="MsoNormal" style="text-align: justify"><span style="font-size: 10pt\; font-family: Arial">This multimedia presentation traces the history of a World War II era bomb factory on which a residential community was planned\, including: <o:p></o:p></span></p> <p class="MsoNormal" style="text-align: justify"><span style="font-size: 10pt\; font-family: Arial"><o:p>&nbsp\;</o:p></span></p> <p class="MsoNormal" style="margin-left: 0.25in\; text-indent: -0.25in"><!--[if !supportLists]--><span style="font-family: Symbol"><span>&middot\;<span style="font: 7pt &quot\;Times New Roman&quot\;">&nbsp\;&nbsp\;&nbsp\;&nbsp\;&nbsp\;&nbsp\;&nbsp\;&nbsp\;&nbsp\;&nbsp\;&nbsp\;&nbsp\;&nbsp\;&nbsp\;&nbsp\;&nbsp\; </span></span></span><!--[endif]--><span style="font-size: 10pt\; font-family: Arial">Rare photographs and diagrams of the bomb plant.<o:p></o:p></span></p> <p class="MsoNormal" style="margin-left: 0.25in\; text-indent: -0.25in"><!--[if !supportLists]--><span style="font-family: Symbol"><span>&middot\;<span style="font: 7pt &quot\;Times New Roman&quot\;">&nbsp\;&nbsp\;&nbsp\;&nbsp\;&nbsp\;&nbsp\;&nbsp\;&nbsp\;&nbsp\;&nbsp\;&nbsp\;&nbsp\;&nbsp\;&nbsp\;&nbsp\;&nbsp\; </span></span></span><!--[endif]--><span style="font-size: 10pt\; font-family: Arial">Historic newsreel video footage of the factory workers during its operation.<o:p></o:p></span></p> <p class="MsoNormal" style="margin-left: 0.25in\; text-indent: -0.25in"><!--[if !supportLists]--><span style="font-family: Symbol"><span>&middot\;<span style="font: 7pt &quot\;Times New Roman&quot\;">&nbsp\;&nbsp\;&nbsp\;&nbsp\;&nbsp\;&nbsp\;&nbsp\;&nbsp\;&nbsp\;&nbsp\;&nbsp\;&nbsp\;&nbsp\;&nbsp\;&nbsp\;&nbsp\; </span></span></span><!--[endif]--><span style="font-size: 10pt\; font-family: Arial">A &ldquo\;virtual&rdquo\; tour of the site as it currently exists more than 60 years later.<o:p></o:p></span></p> <p class="MsoNormal" style="margin-left: 0.25in\; text-indent: -0.25in"><!--[if !supportLists]--><span style="font-family: Symbol"><span>&middot\;<span style="font: 7pt &quot\;Times New Roman&quot\;">&nbsp\;&nbsp\;&nbsp\;&nbsp\;&nbsp\;&nbsp\;&nbsp\;&nbsp\;&nbsp\;&nbsp\;&nbsp\;&nbsp\;&nbsp\;&nbsp\;&nbsp\;&nbsp\; </span></span></span><!--[endif]--><span style="font-size: 10pt\; font-family: Arial">Description of the potential hazards that would affect residential development.<o:p></o:p></span></p> <p class="MsoNormal"><span style="font-size: 10pt\; font-family: Arial"><o:p>&nbsp\;</o:p></span></p> <p class="MsoNormal"><span style="font-size: 10pt\; font-family: Arial">The presentation will conclude with some recent news headlines surrounding an existing community near <st1:place w:st="on"><st1:city w:st="on">Orlando</st1:city>\, <st1:state w:st="on">Florida</st1:state></st1:place>\, where World War II era bombs have been found buried beneath a school property and surrounding areas. <o:p></o:p></span></p> <p class="MsoNormal"><span style="font-size: 10pt\; font-family: Arial">&nbsp\;<o:p></o:p></span></p> <p class="MsoNormal" style="text-align: justify"><span style="font-size: 10pt\; font-family: Arial">To learn more\, attend the upcoming breakfast seminar to be held at the Builders League of South Jersey facility on <b>Thursday\, April 22\, 2010\, from 9:00 am to 10:30 am</b>. Registration and continental breakfast begin at 8:30 a.m. </span></p> <p class="MsoNormal" style="text-align: justify"><span style="font-size: 10pt\; font-family: Arial" /></p> <p class="MsoNormal" style="text-align: justify"><strong><span style="font-size: 10pt\; font-family: Arial">Presented by: Gary Rakow\,&nbsp\; VP </span></strong><span style="font-size: 10pt\; font-family: Arial">&nbsp\; &nbsp\; <br /> </span></p> <p class="MsoNormal" style="margin: 0in -0.5in 0pt"><span style="font-family: Arial">V.P.\,&nbsp\;&nbsp\;<span style="font-size: medium"> <b>G &nbsp\; Geo-Technology Associates\, Inc.</b></span><b><o:p></o:p></b></span></p> <p>&nbsp\;</p> <p class="MsoNormal" style="margin: 0in -0.5in 0pt"><span style="font-family: Arial" /><span style="font-family: Arial"><o:p>&nbsp\; </o:p><b><o:p></o:p></b></span></p> <p class="MsoNormal" style="margin: 0in -0.5in 0pt"><span style="font-family: Arial"><o:p>&nbsp\;</o:p></span></p>
LOCATION:114 Haddontowne Court Cherry Hill\, NJ 08034
UID:e.9292.1234
SEQUENCE:3
DTSTAMP:20260421T181335Z
URL:https://members.blsj.com/events/details/seminar-deal-or-no-deal-the-1-000-000-case-you-don-t-want-to-open-postponed-04-22-2010-1234
END:VEVENT

END:VCALENDAR
