BEGIN:VCALENDAR
VERSION:2.0
PRODID:-//ChamberMaster//Event Calendar 2.0//EN
METHOD:PUBLISH
X-PUBLISHED-TTL:P3D
REFRESH-INTERVAL:P3D
CALSCALE:GREGORIAN
BEGIN:VEVENT
DTSTART:20061017T220000Z
DTEND:20061017T160000Z
X-MICROSOFT-CDO-ALLDAYEVENT:FALSE
SUMMARY:Seminar: CREATING THE ULTIMATE DESIGN STUDIO EXPERIENCE
DESCRIPTION:CREATING THE ULTIMATE DESIGN STUDIO EXPERIENCE This information-packed program will teach you how to increase option sales and improve customer satisfaction. Learn best practices in critical areas from the nation's foremost Design Studio expert: Identify and implement essential elements of a superb customer experience Effectively communicate about your optional products with clarity while increasing perceived value. Utilize targeted and proven sales techniques for your sales and design teams. Leverage your design studio as a sales tool. Execute proven strategies to increase option sales Manipulate expectation setting opportunities to create a win-win situation. You will leave this high-energy program with lots of actionable items you can start implementing right away!! Speaker: Jane Meagher - Success Strategies
X-ALT-DESC;FMTTYPE=text/html:CREATING THE ULTIMATE DESIGN STUDIO EXPERIENCE This information-packed program will teach you how to increase option sales and improve customer satisfaction. Learn best practices in critical areas from the nation&rsquo\;s foremost Design Studio expert: Identify and implement essential elements of a superb customer experience Effectively communicate about your optional products with clarity while increasing perceived value. Utilize targeted and proven sales techniques for your sales and design teams. Leverage your design studio as a sales tool. Execute proven strategies to increase option sales Manipulate expectation setting opportunities to create a win-win situation. You will leave this high-energy program with lots of actionable items you can start implementing right away!! Speaker: Jane Meagher - Success Strategies
LOCATION:Builders League of South Jersey 114 Haddontowne Ct Cherry Hill\, NJ 08034
UID:e.9292.1559
SEQUENCE:3
DTSTAMP:20260421T235116Z
URL:https://members.blsj.com/events/details/seminar-creating-the-ultimate-design-studio-experience-10-17-2006-1559
END:VEVENT

END:VCALENDAR
