BEGIN:VCALENDAR
VERSION:2.0
PRODID:-//ChamberMaster//Event Calendar 2.0//EN
METHOD:PUBLISH
X-PUBLISHED-TTL:P3D
REFRESH-INTERVAL:P3D
CALSCALE:GREGORIAN
BEGIN:VEVENT
DTSTART:20100616T220000Z
DTEND:20100616T160000Z
X-MICROSOFT-CDO-ALLDAYEVENT:FALSE
SUMMARY:SEMINAR: CERTIFICATES OF INSURANCE AND THE HEADACHES THEY CAUSE!
DESCRIPTION:Certificates of Insurance\n and The Headaches They Cause! ~ Wednesday\, June 16\, 2010 ~ A seminar to guide builders\, developers and redevelopers on the effective management of subcontractor certificates of insurance \n and achieving additional insured status on a subcontractor insurance program. \n \n Talking points include: What Is A Certificate of Insurance Anyway?\n Why Are Certificates of Insurance Used? \n How Do Certificates of Insurance Differ From Insurance Binders? \n Why Is It So Important To Be An Additional Insured? \n How Do I Assure My Interest Is Properly Protected?\n Limitations in Certificates of Insurance.\n \n Who Should Attend:\n Attorneys\, property managers\, real estate agents and brokers. Accountants\, insurance professionals\, real estate investors  \n THIS IS A MUST FOR GC's\, OWNERS\, and SUBS. Speaker: Ronald Hicks\, CIC\, CRIS - \n Bollinger Insurance's Construction Practice Group
X-ALT-DESC;FMTTYPE=text/html:<p style="text-align: center"><span style="color: #ff0000"><span style="font-size: small"><strong>Certificates of Insurance<br /> and The Headaches They Cause!</strong></span></span><span style="font-size: small" /></p> <p style="text-align: center"><span style="font-size: x-small">~ Wednesday\, June 16\, 2010 ~</span></p> <p style="text-align: center">A seminar to guide builders\, developers and redevelopers on the effective management of subcontractor certificates of insurance <br /> and achieving additional insured status on a subcontractor insurance program. <br /> <br /> Talking points include:</p> <p style="text-align: center">What Is A Certificate of Insurance Anyway?<br /> Why Are Certificates of Insurance Used? <br /> How Do Certificates of Insurance Differ From Insurance Binders? <br /> Why Is It So Important To Be An Additional Insured? <br /> How Do I Assure My Interest Is Properly Protected?<br /> Limitations in Certificates of Insurance.<br /> <br /> Who Should Attend:<br /> Attorneys\, property managers\, real estate agents and brokers. Accountants\, insurance professionals\, real estate investors&nbsp\;&nbsp\;<br /> <span style="color: #ff0000"><strong><span class="387172015-03062010"><span class="387172015-03062010">THIS IS A MUST FOR GC's\, OWNERS\, and SUBS.</span></span></strong></span><strong><span class="387172015-03062010" /></strong><span class="387172015-03062010" /></p> <p><strong>Speaker: Ronald Hicks\, CIC\, CRIS - <br /> Bollinger Insurance&rsquo\;s Construction Practice Group </strong><br /> &nbsp\;</p>
LOCATION:114 Haddontowne Court Cherry Hill\, NJ 08034
UID:e.9292.572
SEQUENCE:3
DTSTAMP:20260421T132943Z
URL:https://members.blsj.com/events/details/seminar-certificates-of-insurance-and-the-headaches-they-cause-06-16-2010-572
END:VEVENT

END:VCALENDAR
