BEGIN:VCALENDAR
VERSION:2.0
PRODID:-//ChamberMaster//Event Calendar 2.0//EN
METHOD:PUBLISH
X-PUBLISHED-TTL:P3D
REFRESH-INTERVAL:P3D
CALSCALE:GREGORIAN
BEGIN:VEVENT
DTSTART:20061208T170000Z
DTEND:20061208T170000Z
X-MICROSOFT-CDO-ALLDAYEVENT:FALSE
SUMMARY:Seminar: Buzzsaw Trade Days - FREE HANDS-ON TRAINING
DESCRIPTION:Buzzsaw Trade Days - FREE HANDS-ON TRAINING Dear Trade Partner: The Buzzsaw team is coming to a city near you to answer your technical questions and to demonstrate how YOU can use this software more effectively and efficiently to YOUR advantage. Training topics will include:      VIEW plans online      PRINT to scale on your printer      TAKEOFF plans with measurement      SUBMIT BIDS online thru Buzzsaw   Don't miss this opportunity to RECHARGE your knowledge of Buzzsaw. It's the future of plans for homebuilding and we want to make sure you are prepared for it. The experts from Autodesk are coming to town specifically to train and support our trade base\, in-person. This is FOR YOU and your company's benefit. WHO SHOULD ATTEND:     Estimators      Project Managers      Presidents      Salespeople      Anyone who works with plans and Buzzsaw   Just come by one of the three sessions (morning\, midday\, or afternoon) and be ready to ask your questions. Network with other trade partners. Bring your laptop and printer if you want to get technical support on-site. Don't miss this chance to speak directly with the Buzzsaw experts!\n \n 8 am - 10 am\n 11 am - 1 pm\n 2 pm - 4 pm
X-ALT-DESC;FMTTYPE=text/html:<strong style="mso-bidi-font-weight: normal"><span style="FONT-SIZE: 20pt\; FONT-FAMILY: Arial\; mso-bidi-font-family: Â’Times New RomanÂ’\; text-shadow: auto"><font color="#ff0000"><strong style="mso-bidi-font-weight: normal"><span style="FONT-SIZE: 20pt\; FONT-FAMILY: Arial\; mso-bidi-font-family: Â’Times New RomanÂ’\; text-shadow: auto"><font color="#ff0000"><font color="#ff0000"><span><span style="FONT-SIZE: 10pt\; COLOR: black\; FONT-FAMILY: Wingdings\; mso-bidi-font-family: Wingdings\; mso-bidi-font-size: 12.0pt\; mso-fareast-font-family: Wingdings"><span style="mso-list: Ignore"><span style="FONT: 7pt Â’Times New RomanÂ’"><strong style="mso-bidi-font-weight: normal"><span style="FONT-SIZE: 20pt\; FONT-FAMILY: Arial\; mso-bidi-font-family: Â’Times New RomanÂ’\; text-shadow: auto"><font color="#ff0000"><strong style="mso-bidi-font-weight: normal"><span style="FONT-SIZE: 20pt\; FONT-FAMILY: Arial\; mso-bidi-font-family: Â’Times New RomanÂ’\; text-shadow: auto"><font color="#ff0000"><font color="#ff0000"><span><span style="FONT-SIZE: 10pt\; COLOR: black\; FONT-FAMILY: Wingdings\; mso-bidi-font-family: Wingdings\; mso-bidi-font-size: 12.0pt\; mso-fareast-font-family: Wingdings"><span style="mso-list: Ignore"><span style="FONT: 7pt Â’Times New RomanÂ’"><font face="Arial"> <div><strong><font size="6">Buzzsaw Trade Days - FREE HANDS-ON TRAINING</font></strong></div> <div>Dear Trade Partner:</div> <div>The Buzzsaw team is coming to a city near you to answer your technical questions and to demonstrate how YOU can use this software more effectively and efficiently to YOUR advantage. Training topics will include:</div> <ul>     <li>VIEW plans online </li>     <li>PRINT to scale on your printer </li>     <li>TAKEOFF plans with measurement </li>     <li>SUBMIT BIDS online thru Buzzsaw </li> </ul> <div>Don&rsquo\;t miss this opportunity to RECHARGE your knowledge of Buzzsaw. It&rsquo\;s the future of plans for homebuilding and we want to make sure you are prepared for it. The experts from Autodesk are coming to town specifically to train and support our trade base\, in-person. This is FOR YOU and your company&rsquo\;s benefit.</div> <ul>WHO SHOULD ATTEND:     <li>Estimators </li>     <li>Project Managers </li>     <li>Presidents </li>     <li>Salespeople </li>     <li>Anyone who works with plans and Buzzsaw </li> </ul> <div>Just come by one of the three sessions (morning\, midday\, or afternoon) and be ready to ask your questions. Network with other trade partners. Bring your laptop and printer if you want to get technical support on-site. Don&rsquo\;t miss this chance to speak directly with the Buzzsaw experts!<br /> <br /> 8 am - 10 am<br /> 11 am - 1 pm<br /> 2 pm - 4 pm</div> </font></span></span></span></span></font></font></span></strong></font></span></strong></span></span></span></span></font></font></span></strong></font></span></strong>
LOCATION:Builders League of South Jersey 114 Haddontowne Ct Cherry Hill\, NJ 08034
UID:e.9292.1556
SEQUENCE:3
DTSTAMP:20260422T023348Z
URL:https://members.blsj.com/events/details/seminar-buzzsaw-trade-days-free-hands-on-training-12-08-2006-1556
END:VEVENT

END:VCALENDAR
