BEGIN:VCALENDAR
VERSION:2.0
PRODID:-//ChamberMaster//Event Calendar 2.0//EN
METHOD:PUBLISH
X-PUBLISHED-TTL:P3D
REFRESH-INTERVAL:P3D
CALSCALE:GREGORIAN
BEGIN:VEVENT
DTSTART:20070216T230000Z
DTEND:20070216T170000Z
X-MICROSOFT-CDO-ALLDAYEVENT:FALSE
SUMMARY:Seminar: Business Killers-CANCELLED
DESCRIPTION:Learn how to avoid the six common mistakes that can destroy your business and your future You've never seen anything like businessKillers . It is a unique program designed to help an individual or business owner avoid the six common mistakes that can kill the value of a business and/or impair an effective transfer of ownership. 6 Video Modules Dealing with Mistakes that Can Kill Your Business The 6 Modules are Entitled 1. "I know What My Business is Worth" Business Valuations/buy/sell funding 2. "I'm Too Busy Running the Company" Succession Planning/funding real estate taxes 3. "That'll Never Happen to Me" Disability income protection insurance 4. "There's Plenty of Time for That" Replacement income/asset allocation 5. "My Business IS My Retirement" Diversified investments/asset allocation 6. "You Can't Beat Uncle Sam" Tax strategies/investments/alternative retirement plans There are no slides\, graphs or charts used in a businessKillers  educational workshop. This powerful program will be one of the most important sessions you will attend. Continental breakfast included. Presented by: Mark L. Maggi & Joseph W. Murray\, CLU\, ChFC\, CSA First Financial Group
X-ALT-DESC;FMTTYPE=text/html:<v:shapetype id="_x0000_t75" stroked="f" filled="f" path="m@4@5l@4@11@9@11@9@5xe" o:preferrelative="t" o:spt="75" coordsize="21600\,21600"><v:stroke joinstyle="miter"></v:stroke><v:formulas><v:f eqn="if lineDrawn pixelLineWidth 0"></v:f><v:f eqn="sum @0 1 0"></v:f><v:f eqn="sum 0 0 @1"></v:f><v:f eqn="prod @2 1 2"></v:f><v:f eqn="prod @3 21600 pixelWidth"></v:f><v:f eqn="prod @3 21600 pixelHeight"></v:f><v:f eqn="sum @0 0 1"></v:f><v:f eqn="prod @6 1 2"></v:f><v:f eqn="prod @7 21600 pixelWidth"></v:f><v:f eqn="sum @8 21600 0"></v:f><v:f eqn="prod @7 21600 pixelHeight"></v:f><v:f eqn="sum @10 21600 0"></v:f></v:formulas><v:path o:connecttype="rect" gradientshapeok="t" o:extrusionok="f"></v:path><o:lock aspectratio="t" v:ext="edit"></o:lock></v:shapetype> <h2 style="MARGIN: 0in 0in 0pt 1in\; TEXT-INDENT: 0.5in" align="left"> <div>Learn how to avoid the six common mistakes that can destroy your business and your future You&rsquo\;ve never seen anything like businessKillers&reg\;. It is a unique program designed to help an individual or business owner avoid the six common mistakes that can kill the value of a business and/or impair an effective transfer of ownership. 6 Video Modules Dealing with Mistakes that Can Kill Your Business The 6 Modules are Entitled 1. &quot\;I know What My Business is Worth&quot\; Business Valuations/buy/sell funding 2. &quot\;I&rsquo\;m Too Busy Running the Company&quot\; Succession Planning/funding real estate taxes 3. &quot\;That&rsquo\;ll Never Happen to Me&quot\; Disability income protection insurance 4. &quot\;There&rsquo\;s Plenty of Time for That&quot\; Replacement income/asset allocation 5. &quot\;My Business IS My Retirement&quot\; Diversified investments/asset allocation 6. &quot\;You Can&rsquo\;t Beat Uncle Sam&quot\; Tax strategies/investments/alternative retirement plans There are no slides\, graphs or charts used in a businessKillers&reg\; educational workshop. This powerful program will be one of the most important sessions you will attend. Continental breakfast included. Presented by: Mark L. Maggi &amp\; Joseph W. Murray\, CLU\, ChFC\, CSA First Financial Group </div> <v:shape id="_x0000_s1026" style="MARGIN-TOP: 1.6pt\; Z-INDEX: -1\; LEFT: 0px\; MARGIN-LEFT: -36pt\; WIDTH: 215.85pt\; POSITION: absolute\; HEIGHT: 405pt\; TEXT-ALIGN: left" stroked="t" strokeweight="1pt" wrapcoords="-138 -37 -138 21600 21738 21600 21738 -37 -138 -37" type="#_x0000_t75"><v:imagedata o:title="BKModules%20posterMJMBW" src="file:///C:\\DOCUME~1\\Marlene\\LOCALS~1\\Temp\\msohtml1\\01\\clip_image001.jpg"></v:imagedata><w:wrap type="tight"></w:wrap></v:shape><span style="FONT-SIZE: 18pt"><span><em> <h2 style="MARGIN: 0in 0in 0pt 1in\; TEXT-INDENT: 0.5in"><v:shapetype id="_x0000_t75" stroked="f" filled="f" path="m@4@5l@4@11@9@11@9@5xe" o:preferrelative="t" o:spt="75" coordsize="21600\,21600"><v:stroke joinstyle="miter"></v:stroke><v:formulas><v:f eqn="if lineDrawn pixelLineWidth 0"></v:f><v:f eqn="sum @0 1 0"></v:f><v:f eqn="sum 0 0 @1"></v:f><v:f eqn="prod @2 1 2"></v:f><v:f eqn="prod @3 21600 pixelWidth"></v:f><v:f eqn="prod @3 21600 pixelHeight"></v:f><v:f eqn="sum @0 0 1"></v:f><v:f eqn="prod @6 1 2"></v:f><v:f eqn="prod @7 21600 pixelWidth"></v:f><v:f eqn="sum @8 21600 0"></v:f><v:f eqn="prod @7 21600 pixelHeight"></v:f><v:f eqn="sum @10 21600 0"></v:f></v:formulas><v:path o:connecttype="rect" gradientshapeok="t" o:extrusionok="f"></v:path><o:lock aspectratio="t" v:ext="edit"></o:lock></v:shapetype><v:shape id="_x0000_s1026" style="MARGIN-TOP: 1.6pt\; Z-INDEX: -1\; LEFT: 0px\; MARGIN-LEFT: -36pt\; WIDTH: 215.85pt\; POSITION: absolute\; HEIGHT: 405pt\; TEXT-ALIGN: left" stroked="t" strokeweight="1pt" wrapcoords="-138 -37 -138 21600 21738 21600 21738 -37 -138 -37" type="#_x0000_t75"><v:imagedata o:title="BKModules%20posterMJMBW" src="file:///C:\\DOCUME~1\\Marlene\\LOCALS~1\\Temp\\msohtml1\\01\\clip_image001.jpg"></v:imagedata><w:wrap type="tight"></w:wrap></v:shape></h2> </em></span></span></h2>
LOCATION:\, NJ
UID:e.9292.571
SEQUENCE:3
DTSTAMP:20260422T052517Z
URL:https://members.blsj.com/events/details/seminar-business-killers-cancelled-02-16-2007-571
END:VEVENT

END:VCALENDAR
