BEGIN:VCALENDAR
VERSION:2.0
PRODID:-//ChamberMaster//Event Calendar 2.0//EN
METHOD:PUBLISH
X-PUBLISHED-TTL:P3D
REFRESH-INTERVAL:P3D
CALSCALE:GREGORIAN
BEGIN:VEVENT
DTSTART:20091008T220000Z
DTEND:20091008T160000Z
X-MICROSOFT-CDO-ALLDAYEVENT:FALSE
SUMMARY:Seminar: Building & Maintaining a Strong Online Brand
DESCRIPTION:Building & Maintaining A Strong Online Brand Miles Technologies Shows You How! About the Seminar When it comes to business\, perception is reality\, and the perception your potential customers have of your company can literally make or break your business. With so many people turning to the internet for research before making purchasing decisions\, it is essential for every business to stay on top of its online presence and reputation. Renowned for building and maintaining positive online brands that have reaped great rewards for clients\, Miles Technologies will share unique insights and effective branding strategies for online success. This educational seminar will provide comprehensive step-by-step instructions on ways to proactively build a positive online image for your company according to your business goals. Business owners will leave the seminar with a focused plan of action to build a strong online brand. How Will You Benefit? A strong online brand gives your prospects more reasons to hire you and allows you to compete on a level playing field with your competitors. Our instructional seminar will give you the tools and the confidence to use the internet to your advantage and construct the exact impression you want to give to potential clients. Attendees are provided with an overview of:   Social Media o Using Facebook\, Twitter & more o Interact with your target market   Blogs o Writing\, Promoting & Updating o Become known as an expert in your field   Online Public Relations o Press Releases o Relevant Industry Articles   Online Encyclopedia Entries o Enhance your credibility       Learn From the Best Miles Technologies' team of dedicated online marketing specialists has extensive experience and numerous certifications including:   Google AdWords Certified   Google Analytics Certified   Search Engine College Certified Search Engine Marketers We have the expertise to guide you to success!     Presented by Miles Technologies
X-ALT-DESC;FMTTYPE=text/html:<p>Building &amp\; Maintaining A Strong Online Brand</p> <p>Miles Technologies Shows You How!</p> <p>About the Seminar</p> <p>When it comes to business\, perception is reality\, and the perception your potential customers have of your company can literally make or break your business. With so many people turning to the internet for research before making purchasing decisions\, it is essential for every business to stay on top of its online presence and reputation.</p> <p>Renowned for building and maintaining positive online brands that have reaped great rewards for clients\, Miles Technologies will share unique insights and effective branding strategies for online success. This educational seminar will provide comprehensive step-by-step instructions on ways to proactively build a positive online image for your company according to your business goals. Business owners will leave the seminar with a focused plan of action to build a strong online brand.</p> <p>How Will You Benefit?</p> <p>A strong online brand gives your prospects more reasons to hire you and allows you to compete on a level playing field with your competitors. Our instructional seminar will give you the tools and the confidence to use the internet to your advantage and construct the exact impression you want to give to potential clients. Attendees are provided with an overview of:</p> <p>&middot\; Social Media</p> <p>o Using Facebook\, Twitter &amp\; more</p> <p>o Interact with your target market</p> <p>&middot\; Blogs</p> <p>o Writing\, Promoting &amp\; Updating</p> <p>o Become known as an expert in your field</p> <p>&middot\; Online Public Relations</p> <p>o Press Releases</p> <p>o Relevant Industry Articles</p> <p>&middot\; Online Encyclopedia Entries</p> <p>o Enhance your credibility</p> <p>&nbsp\;</p> <p>&nbsp\;</p> <p>&nbsp\;</p> <p>Learn From the Best</p> <p>Miles Technologies&rsquo\; team of dedicated online marketing specialists has extensive experience and numerous certifications including:</p> <p>&middot\; Google AdWords Certified</p> <p>&middot\; Google Analytics Certified</p> <p>&middot\; Search Engine College Certified Search Engine Marketers</p> <p>We have the expertise to guide you to success!</p> <p>&nbsp\;</p> <p>&nbsp\;</p> <p>Presented by Miles Technologies</p>
LOCATION:114 Haddontowne Court Cherry Hill\, NJ 08034
UID:e.9292.1373
SEQUENCE:3
DTSTAMP:20260422T023410Z
URL:https://members.blsj.com/events/details/seminar-building-maintaining-a-strong-online-brand-10-08-2009-1373
END:VEVENT

END:VCALENDAR
