BEGIN:VCALENDAR
VERSION:2.0
PRODID:-//ChamberMaster//Event Calendar 2.0//EN
METHOD:PUBLISH
X-PUBLISHED-TTL:P3D
REFRESH-INTERVAL:P3D
CALSCALE:GREGORIAN
BEGIN:VEVENT
DTSTART:20050524T220000Z
DTEND:20050524T220000Z
X-MICROSOFT-CDO-ALLDAYEVENT:FALSE
SUMMARY:Seminar: Benefits of GPS Vehicle Tracking
DESCRIPTION:1.   CHALLENGES FACED BY COMPANIES WITH MOBILE WORKFORCES 2.   WHO IS MMR? a.   WHAT WE DO b.   OUR PROCESS c.   OUR PARTNERSHIP WITH LEADING TECHNOLOGY PROVIDERS 3.   OVERVIEW OF GPS TECHNOLOGY 4.   NAVTRAK VEHICLE TRACKING DEMO 5.   MMR'S SOLUTIONS a.   SAVE YOU TIME b.   SAVE YOU MONEY c.   INCREASE REVENUE d.   PROVIDE PEACE OF MIND  6.   TAKE THE NEXT STEP a.   COMPREHENSIVE\, CUSTOMIZED PROPOSAL b.   RETURN-ON-INVESTMENT (ROI) ANALYSIS 7.   Q & A Presented by: Stephen W. Johnson Vice President\, Business Development Mobile Management Resources\, LLC
X-ALT-DESC;FMTTYPE=text/html:1.   CHALLENGES FACED BY COMPANIES WITH MOBILE WORKFORCES 2.   WHO IS MMR? a.   WHAT WE DO b.   OUR PROCESS c.   OUR PARTNERSHIP WITH LEADING TECHNOLOGY PROVIDERS 3.   OVERVIEW OF GPS TECHNOLOGY 4.   NAVTRAK VEHICLE TRACKING DEMO 5.   MMR'S SOLUTIONS a.   SAVE YOU TIME b.   SAVE YOU MONEY c.   INCREASE REVENUE d.   PROVIDE PEACE OF MIND  6.   TAKE THE NEXT STEP a.   COMPREHENSIVE\, CUSTOMIZED PROPOSAL b.   RETURN-ON-INVESTMENT (ROI) ANALYSIS 7.   Q & A Presented by: Stephen W. Johnson Vice President\, Business Development Mobile Management Resources\, LLC  
LOCATION:Builders League 114 Haddontowne Ct Cherry Hill\, NJ 08034
UID:e.9292.1555
SEQUENCE:3
DTSTAMP:20260421T004948Z
URL:https://members.blsj.com/events/details/seminar-benefits-of-gps-vehicle-tracking-05-24-2005-1555
END:VEVENT

END:VCALENDAR
