BEGIN:VCALENDAR
VERSION:2.0
PRODID:-//ChamberMaster//Event Calendar 2.0//EN
METHOD:PUBLISH
X-PUBLISHED-TTL:P3D
REFRESH-INTERVAL:P3D
CALSCALE:GREGORIAN
BEGIN:VEVENT
DTSTART:20060126T230000Z
DTEND:20060126T170000Z
X-MICROSOFT-CDO-ALLDAYEVENT:FALSE
SUMMARY:Seminar: Association Maximization & New Member Orientation
DESCRIPTION:~ASSOCIATION MAXIMIZATION~ "How to Network & Build Your Business Through the Builders League" &  New Member Orientation Meet our officers\, committee chairs & staff\, learn about the benefits of membership\,  committee involvement & much much more!   Moderator: Michael Kurpiel Marketing Manager\, Strober Building Supply Past Associate VP\, New Jersey Builders Association VP Associate Affairs Builders League of South Jersey   Learn the Following Tips for Cultivating Successful Business Relationships  Maximizing Your Membership /How to Increase Your Business It's Not Always What You Know - But Who You Know for Those Important Introductions  How to Get a Jump-start on Networking (this meeting /seminar is a good start) The In's & Out's of the Association How to Effectively Make Those Important Contacts  Who Should Attend: New Members\, Old Members\, Curious Members Anyone Who Wants to Master the Secrets of Networking  Within the Builders Association  Reason to Attend: To Get the Most From Your Membership  RSVP by Monday\, January 23rd To RSVP:  please complete and fax\, mail or email the registration form.
X-ALT-DESC;FMTTYPE=text/html:~ASSOCIATION MAXIMIZATION~ "How to Network & Build Your Business Through the Builders League" &  New Member Orientation Meet our officers\, committee chairs & staff\, learn about the benefits of membership\,  committee involvement & much much more!   Moderator: Michael Kurpiel Marketing Manager\, Strober Building Supply Past Associate VP\, New Jersey Builders Association VP Associate Affairs Builders League of South Jersey   Learn the Following Tips for Cultivating Successful Business Relationships  Maximizing Your Membership /How to Increase Your Business It's Not Always What You Know - But Who You Know for Those Important Introductions  How to Get a Jump-start on Networking (this meeting /seminar is a good start) The In's & Out's of the Association How to Effectively Make Those Important Contacts  Who Should Attend: New Members\, Old Members\, Curious Members Anyone Who Wants to Master the Secrets of Networking  Within the Builders Association  Reason to Attend: To Get the Most From Your Membership  RSVP by Monday\, January 23rd To RSVP:  please complete and fax\, mail or email the registration form.  
LOCATION:\, NJ
UID:e.9292.1554
SEQUENCE:3
DTSTAMP:20260421T110959Z
URL:https://members.blsj.com/events/details/seminar-association-maximization-new-member-orientation-01-26-2006-1554
END:VEVENT

END:VCALENDAR
