BEGIN:VCALENDAR
VERSION:2.0
PRODID:-//ChamberMaster//Event Calendar 2.0//EN
METHOD:PUBLISH
X-PUBLISHED-TTL:P3D
REFRESH-INTERVAL:P3D
CALSCALE:GREGORIAN
BEGIN:VEVENT
DTSTART:20050603T220000Z
DTEND:20050603T220000Z
X-MICROSOFT-CDO-ALLDAYEVENT:FALSE
SUMMARY:Seminar:Asset Protection-CANCELED
DESCRIPTION:Significant increase in construction defect claims and related litigation  Builders are liable for Implied Warranty Laws in each state  Insurance carriers are withdrawing from residential construction due to poor underwriting results and the legal liability of the home builder  Insurance companies cannot determine the "Legal Liability" of builders and contractors  Insurance companies are requiring the implementation of risk management programs and costly quality control reviews   Premium rates continue to rise at rapid rates with no end in sight  Insurance and reinsurance companies must repair their balance sheet through rate increases and reduction of terms and conditions for years to come  The few insurance carriers remaining have eliminated  critical coverages...products completed operations\, soil movement\, mold and fungus\, EIFS\, work of subcontractors.   Speaker: Bill Becker\, 2-10 Homebuyers Warranty
X-ALT-DESC;FMTTYPE=text/html:Significant increase in construction defect claims and related litigation  Builders are liable for Implied Warranty Laws in each state  Insurance carriers are withdrawing from residential construction due to poor underwriting results and the legal liability of the home builder  Insurance companies cannot determine the "Legal Liability" of builders and contractors  Insurance companies are requiring the implementation of risk management programs and costly quality control reviews   Premium rates continue to rise at rapid rates with no end in sight  Insurance and reinsurance companies must repair their balance sheet through rate increases and reduction of terms and conditions for years to come  The few insurance carriers remaining have eliminated  critical coverages...products completed operations\, soil movement\, mold and fungus\, EIFS\, work of subcontractors.   Speaker: Bill Becker\, 2-10 Homebuyers Warranty
LOCATION:Builders League of South Jersey 114 Haddontowne Ct Cherry Hill\, NJ 08034
UID:e.9292.706
SEQUENCE:3
DTSTAMP:20260421T020012Z
URL:https://members.blsj.com/events/details/seminar-asset-protection-canceled-06-03-2005-706
END:VEVENT

END:VCALENDAR
