BEGIN:VCALENDAR
VERSION:2.0
PRODID:-//ChamberMaster//Event Calendar 2.0//EN
METHOD:PUBLISH
X-PUBLISHED-TTL:P3D
REFRESH-INTERVAL:P3D
CALSCALE:GREGORIAN
BEGIN:VEVENT
DTSTART:20060623T220000Z
DTEND:20060623T160000Z
X-MICROSOFT-CDO-ALLDAYEVENT:FALSE
SUMMARY:Seminar: A WomenÂ’s Guide to Financial Planning
DESCRIPTION:A Women's Guide to Financial Planning - Never kissed a frog. Never had to  Join a circle of professional women to share ideas and financial strategies while we present answers and alternatives for developing or improving your wealth-building strategy in the face of changing life event.  This seminar will help women to plan with experts about financial moves that are  important in their lives.  Presented by: Gwendolyn Faulkner\, Special Care Planner\, MassMutual
X-ALT-DESC;FMTTYPE=text/html:A Women's Guide to Financial Planning - Never kissed a frog. Never had to  Join a circle of professional women to share ideas and financial strategies while we present answers and alternatives for developing or improving your wealth-building strategy in the face of changing life event.  This seminar will help women to plan with experts about financial moves that are  important in their lives.  Presented by: Gwendolyn Faulkner\, Special Care Planner\, MassMutual  
LOCATION:Builders League office Cherry Hill\, NJ 08034
UID:e.9292.1552
SEQUENCE:3
DTSTAMP:20260421T183731Z
URL:https://members.blsj.com/events/details/seminar-a-women&#226;-s-guide-to-financial-planning-06-23-2006-1552
END:VEVENT

END:VCALENDAR
