BEGIN:VCALENDAR
VERSION:2.0
PRODID:-//ChamberMaster//Event Calendar 2.0//EN
METHOD:PUBLISH
X-PUBLISHED-TTL:P3D
REFRESH-INTERVAL:P3D
CALSCALE:GREGORIAN
BEGIN:VEVENT
DTSTART:20060504T220000Z
DTEND:20060504T160000Z
X-MICROSOFT-CDO-ALLDAYEVENT:FALSE
SUMMARY:"Secrets of Designing Professional Marketing Materials"
DESCRIPTION:The Secrets of Producing Effective Marketing Materials for your business   Is your logo strong and definitive\, does it define your business?   Do your presentation materials stand out in a crowd?   Do your printed pieces hang together as a group\, branding your company (colors\,    typeface\, design)?    Do you have a clear single-minded message for each piece you produce?   Have you reached your target audience?  Why are these questions important? If you want effective and powerful marketing materials\, let me give you the insiders information on what you must know.  Presented by: Peg McShea Creative Director Communication Design Group
X-ALT-DESC;FMTTYPE=text/html:The Secrets of Producing Effective Marketing Materials for your business   Is your logo strong and definitive\, does it define your business?   Do your presentation materials stand out in a crowd?   Do your printed pieces hang together as a group\, branding your company (colors\,    typeface\, design)?    Do you have a clear single-minded message for each piece you produce?   Have you reached your target audience?  Why are these questions important? If you want effective and powerful marketing materials\, let me give you the insiders information on what you must know.  Presented by: Peg McShea Creative Director Communication Design Group  
LOCATION:Builders League 114 Haddontowne Ct Cherry Hill\, NJ 08034
UID:e.9292.36
SEQUENCE:3
DTSTAMP:20260421T165419Z
URL:https://members.blsj.com/events/details/secrets-of-designing-professional-marketing-materials-05-04-2006-36
END:VEVENT

END:VCALENDAR
