BEGIN:VCALENDAR
VERSION:2.0
PRODID:-//ChamberMaster//Event Calendar 2.0//EN
METHOD:PUBLISH
X-PUBLISHED-TTL:P3D
REFRESH-INTERVAL:P3D
CALSCALE:GREGORIAN
BEGIN:VEVENT
DTSTART:20091124T170000Z
DTEND:20091124T170000Z
X-MICROSOFT-CDO-ALLDAYEVENT:FALSE
SUMMARY:SCOTCH & CIGAR NIGHT - Ristorante LaVeranda\, Phila\, PA - 11/24/2009
DESCRIPTION:SCOTCH & CIGAR NIGHT \n GREAT NETWORKING EVENT\n \n Location: Ristorante LaVeranda\, Phila\, PA\n 31 Columbus Blvd.\n Phila.\, PA\n \n Date: Tuesday\, November 24\, 2009\n \n Time: 6:00 p.m. - 9:00 p.m.\n \n 3 Hour Open Bar\n Carving Station featuring: Beef\, Ham & Roast Pork\,\n Pasta Station with choice of 3 pastas\n \n Ticket Price: $80.00 per person\n \n Cigar Sponsors:\n TD BANK & THESING POWER SWEEPING\n \n Please call or fax your reservation by Friday\, October 30th \n (P) 856-616-8460 * (F) 856-616-8467 BLSJ policy requires payment prior to the event or at the door. \n All cancellations MUST BE given in writing at least 72 hours in advance or you will be billed.\n NO SHOWS WILL BE RESPONSIBLE FOR PAYMENT - NO EXCEPTIONS
X-ALT-DESC;FMTTYPE=text/html:<p style="text-align: center">SCOTCH &amp\; CIGAR NIGHT <br /> GREAT NETWORKING EVENT<br /> <br /> Location: Ristorante LaVeranda\, Phila\, PA<br /> 31 Columbus Blvd.<br /> Phila.\, PA<br /> <br /> Date: Tuesday\, November 24\, 2009<br /> <br /> Time: 6:00 p.m. - 9:00 p.m.<br /> <br /> 3 Hour Open Bar<br /> Carving Station featuring: Beef\, Ham &amp\; Roast Pork\,<br /> Pasta Station with choice of 3 pastas<br /> <br /> Ticket Price: $80.00 per person<br /> <strong><span style="color: #ff0000"><br /> Cigar Sponsors:<br /> TD BANK &amp\; THESING POWER SWEEPING</span></strong><br /> <br /> Please call or fax your reservation by Friday\, October 30th <br /> (P) 856-616-8460 * (F) 856-616-8467</p> <p style="text-align: center"><strong><span style="color: #ff0000">BLSJ policy requires payment prior to the event or at the door. <br /> All cancellations MUST BE given in writing at least 72 hours in advance or you will be billed.<br /> NO SHOWS WILL BE RESPONSIBLE FOR PAYMENT - NO EXCEPTIONS</span></strong></p> <p><br /> &nbsp\;</p>
LOCATION:31 N. Columbus Blvd Phila.\, PA 19106
UID:e.9292.837
SEQUENCE:3
DTSTAMP:20260422T011625Z
URL:https://members.blsj.com/events/details/scotch-cigar-night-ristorante-laveranda-phila-pa-11-24-2009-11-24-2009-837
END:VEVENT

END:VCALENDAR
