BEGIN:VCALENDAR
VERSION:2.0
PRODID:-//ChamberMaster//Event Calendar 2.0//EN
METHOD:PUBLISH
X-PUBLISHED-TTL:P3D
REFRESH-INTERVAL:P3D
CALSCALE:GREGORIAN
BEGIN:VEVENT
DTSTART:20100106T230000Z
DTEND:20100106T170000Z
X-MICROSOFT-CDO-ALLDAYEVENT:FALSE
SUMMARY:Sales & Marketing Council Strategic Planning Meeting for 2010 - Part 2
DESCRIPTION:This will be a  roundtable meeting of the Builders League's Sales & Marketing Council and Sales and Marketing Directors/Managers on Wednesday\, January 6th at 9:30am at the Builders League offices\, this will be a continuation of the topics we discussed in December. The purpose of the meeting is to get everyone together for a strategy/brainstorming session for 2010. Come with best practices and ideas of what's working and what hasn't worked in the past\, and what can we do in 2010 to offer some new programs and encourage participation. In addition we want to seek your input on the types of educational programs and speakers that you think the League's Sales and Marketing Council should be offering to help you sell homes/be more successful in 2010 as well as suggestions on ways to improve the MAME Awards. Since the SMC's start in 1963\, we have strived to provide the educational and training for new home sales professionals. In 2010 we need to do more for our Sales and Marketing members. This strategy session is important. Please don't miss out! If you have any questions about the meeting\, please give me a call. ___ Yes\, I will attend Name: __________________________________________________________________ Company: ________________________________________________________________
X-ALT-DESC;FMTTYPE=text/html:<p>&nbsp\;&nbsp\;This will be a&nbsp\; roundtable meeting of the Builders League&rsquo\;s Sales &amp\; Marketing Council and Sales and Marketing Directors/Managers on Wednesday\,&nbsp\;January 6th&nbsp\;at 9:30am at the Builders League offices\, this will be a continuation of the topics we discussed in December.</p> <p>The purpose of the meeting is to get everyone together for a strategy/brainstorming session for 2010. Come with best practices and ideas of what&rsquo\;s working and what hasn&rsquo\;t worked in the past\, and what can we do in 2010 to offer some new programs and encourage participation.</p> <p>In addition we want to seek your input on the types of educational programs and speakers that you think the League&rsquo\;s Sales and Marketing Council should be offering to help you sell homes/be more successful in 2010 as well as suggestions on ways to improve the MAME Awards.</p> <p>Since the SMC&rsquo\;s start in 1963\, we have strived to provide the educational and training for new home sales professionals. In 2010 we need to do more for our Sales and Marketing members.</p> <p>This strategy session is important. Please don&rsquo\;t miss out!</p> <p>If you have any questions about the meeting\, please give me a call.</p> <p>___ Yes\, I will attend</p> <p>Name: __________________________________________________________________</p> <p>Company: ________________________________________________________________</p> <p>&nbsp\;</p> <p>&nbsp\;</p>
LOCATION:114 Haddontowne Court Cherry Hill\, NJ 08034
UID:e.9292.1224
SEQUENCE:3
DTSTAMP:20260421T223716Z
URL:https://members.blsj.com/events/details/sales-marketing-council-strategic-planning-meeting-for-2010-part-2-01-06-2010-1224
END:VEVENT

END:VCALENDAR
